BEGIN:VCALENDAR
VERSION:2.0
PRODID:-//ChamberMaster//Event Calendar 2.0//EN
METHOD:PUBLISH
X-PUBLISHED-TTL:P3D
REFRESH-INTERVAL:P3D
CALSCALE:GREGORIAN
BEGIN:VEVENT
DTSTART:20230302T233000Z
DTEND:20230303T013000Z
X-MICROSOFT-CDO-ALLDAYEVENT:FALSE
SUMMARY:2023 Annual Victory Celebration and Awards Night
DESCRIPTION:Join us for our annual celebration of the Des Moines West Side Chamber\, our members\, and our community and all that we have accomplished over the last year.
X-ALT-DESC;FMTTYPE=text/html:<br />\nJoin us for our annual celebration of the Des Moines West Side Chamber\, our members\, and our community and all that we have accomplished over the last year.
LOCATION:Willow on Grand 6011 Grand Ave Des Moines\, IA 50312
UID:e.1726.3185
SEQUENCE:3
DTSTAMP:20260421T203221Z
URL:https://members.dsmwestside.org/events/details/2023-annual-victory-celebration-and-awards-night-3185
END:VEVENT

END:VCALENDAR
