BEGIN:VCALENDAR
VERSION:2.0
PRODID:-//ChamberMaster//Event Calendar 2.0//EN
METHOD:PUBLISH
X-PUBLISHED-TTL:P3D
REFRESH-INTERVAL:P3D
CALSCALE:GREGORIAN
BEGIN:VEVENT
DTSTART:20260403T000000Z
DTEND:20260403T020000Z
X-MICROSOFT-CDO-ALLDAYEVENT:FALSE
SUMMARY:47th Annual Bucksbaum Distinguished Lectureship with John Green
DESCRIPTION:Drake University is honored to welcome #1 New York Times bestselling author John Green for the Martin Bucksbaum Distinguished Lectureship. Green is known for his beloved and acclaimed novels\, including The Fault in Our Stars\, Paper Towns\, and Turtles All the Way Down. His latest work\, Everything is Tuberculosis\, is a deeply human social and scientific history that illuminates the critical healthcare inequities that allow this curable\, treatable infectious disease to also be the deadliest\, killing 1.5 million people every year. As part of the Martin Bucksbaum Distinguished Lectureship Series\, Green will deliver a lecture on Thursday\, April 2\, 2026\, at 7:00 p.m. in the Knapp Center.\n\n\n\nFor more details\, click here to view the event page.
X-ALT-DESC;FMTTYPE=text/html:<span style="color: rgb(0\, 0\, 0)\; font-family: proxima-nova\, sans-serif\; font-size: 18px\;">Drake University is honored to welcome #1 New York Times bestselling author John Green</span><span style="color: rgb(0\, 0\, 0)\; font-family: proxima-nova\, sans-serif\; font-size: 18px\;">&nbsp\;for the Martin Bucksbaum Distinguished Lectureship. Green is known for his beloved and acclaimed novels\, including&nbsp\;</span><em style="box-sizing: border-box\; margin: 0px\; padding: 0px\; border: 0px\; font-variant-numeric: inherit\; font-variant-east-asian: inherit\; font-variant-alternates: inherit\; font-variant-position: inherit\; font-variant-emoji: inherit\; font-stretch: inherit\; font-size: 18px\; line-height: inherit\; font-family: proxima-nova\, sans-serif\; font-optical-sizing: inherit\; font-size-adjust: inherit\; font-kerning: inherit\; font-feature-settings: inherit\; font-variation-settings: inherit\; vertical-align: baseline\; color: rgb(0\, 0\, 0)\;">The Fault in Our Stars</em><span style="color: rgb(0\, 0\, 0)\; font-family: proxima-nova\, sans-serif\; font-size: 18px\;">\,&nbsp\;</span><em style="box-sizing: border-box\; margin: 0px\; padding: 0px\; border: 0px\; font-variant-numeric: inherit\; font-variant-east-asian: inherit\; font-variant-alternates: inherit\; font-variant-position: inherit\; font-variant-emoji: inherit\; font-stretch: inherit\; font-size: 18px\; line-height: inherit\; font-family: proxima-nova\, sans-serif\; font-optical-sizing: inherit\; font-size-adjust: inherit\; font-kerning: inherit\; font-feature-settings: inherit\; font-variation-settings: inherit\; vertical-align: baseline\; color: rgb(0\, 0\, 0)\;">Paper Towns</em><span style="color: rgb(0\, 0\, 0)\; font-family: proxima-nova\, sans-serif\; font-size: 18px\;">\, and&nbsp\;</span><em style="box-sizing: border-box\; margin: 0px\; padding: 0px\; border: 0px\; font-variant-numeric: inherit\; font-variant-east-asian: inherit\; font-variant-alternates: inherit\; font-variant-position: inherit\; font-variant-emoji: inherit\; font-stretch: inherit\; font-size: 18px\; line-height: inherit\; font-family: proxima-nova\, sans-serif\; font-optical-sizing: inherit\; font-size-adjust: inherit\; font-kerning: inherit\; font-feature-settings: inherit\; font-variation-settings: inherit\; vertical-align: baseline\; color: rgb(0\, 0\, 0)\;">Turtles All the Way Down</em><span style="color: rgb(0\, 0\, 0)\; font-family: proxima-nova\, sans-serif\; font-size: 18px\;">. His latest work\,&nbsp\;</span><em style="box-sizing: border-box\; margin: 0px\; padding: 0px\; border: 0px\; font-variant-numeric: inherit\; font-variant-east-asian: inherit\; font-variant-alternates: inherit\; font-variant-position: inherit\; font-variant-emoji: inherit\; font-stretch: inherit\; font-size: 18px\; line-height: inherit\; font-family: proxima-nova\, sans-serif\; font-optical-sizing: inherit\; font-size-adjust: inherit\; font-kerning: inherit\; font-feature-settings: inherit\; font-variation-settings: inherit\; vertical-align: baseline\; color: rgb(0\, 0\, 0)\;">Everything is Tuberculosis</em><span style="color: rgb(0\, 0\, 0)\; font-family: proxima-nova\, sans-serif\; font-size: 18px\;">\, is a deeply human social and scientific history that illuminates the critical healthcare inequities that allow this curable\, treatable infectious disease to also be the deadliest\, killing 1.5 million people every year. As part of the Martin Bucksbaum Distinguished Lectureship Series\, Green will deliver a lecture on Thursday\, April 2\, 2026\, at 7:00 p.m. in the Knapp Center.<br />\n<br />\nFor more details\, <a href="https://www.drake.edu/bucksbaum/">click here</a> to view the event page.</span>
LOCATION:Knapp Center\, Drake University 2601 Forest Ave Des Moines\, IA 50311
UID:e.1726.3637
SEQUENCE:3
DTSTAMP:20260421T111706Z
URL:https://members.dsmwestside.org/events/details/47th-annual-bucksbaum-distinguished-lectureship-with-john-green-3637
END:VEVENT

END:VCALENDAR
