BEGIN:VCALENDAR
VERSION:2.0
PRODID:-//ChamberMaster//Event Calendar 2.0//EN
METHOD:PUBLISH
X-PUBLISHED-TTL:P3D
REFRESH-INTERVAL:P3D
CALSCALE:GREGORIAN
BEGIN:VEVENT
DTSTART:20260226T230000Z
DTEND:20260227T010000Z
X-MICROSOFT-CDO-ALLDAYEVENT:FALSE
SUMMARY:Annual Victory Celebration 2026
DESCRIPTION:MARK YOUR CALENDARS to join us on February 26th for our Annual Victory Celebration when we will look back on our successes in 2025 and look forward to what is coming in 2026. Help us recognize our Chamber by submitting nominations for one (or all) of our four awards. We will collect nominations throughout January and send out a ballot in early February for you to vote on our award recipients. You can nominate by sending an email to Director@dsmwestside.org with the name and accomplishments of your nominee or fill out the website form here. Deadline to submit nominations via website form is 2/10. \n\nAmbassador of the Year Award\n\nQualifications:\n\n\n	Current Member of the Des Moines West Side Chamber\n	Active\, Dedicated Member and Advocate of the Des Moines West Side Chamber (note: does not need to be on the Ambassadors committee to receive this award)\n	We value connection. Our Ambassador of the Year recognizes a member with the gift of extraordinary welcome. It is someone who strengthens our chamber by going out of their way to make all of our members feel welcome and help them make connections with each other.\n\n\nBusiness of the Year Award\n\nQualifications:\n\n\n	Current Member of the Des Moines West Side Chamber\n	A business dedicated to connecting with the community of West Side Des Moines.\n	We value commerce. Strong local businesses are the lifeblood of our community. Our Business of the Year recognizes a member business that has gone above and beyond during the year to give back to our community\n\n\nCitizen of the Year\n\nQualifications:\n\n\n	Individual that is committed to the future and vibrancy of West Side and has exhibited that through support of the Des Moines West Side Chamber.\n	We value community. Communities grow when our citizens give back. Our Citizen of the Year recognizes an individual on the Des Moines West Side\, member or non-member who has dedicated their time and efforts to improve the quality of life in our community over the last year.\n\n\nSoozie McBroom Service Award\n\nQualifications:\n\n\n	Current Member of the Des Moines West Side Chamber\n	Individual that is committed to the future and vibrancy of West Side and has exhibited that through support of the Des Moines West Side Chamber.\n	We value contribution. Often times we don't see the people "behind the curtain" who give their time and talents to keep all our organizational wheels turning smoothly. The Soozie McBroom Service Award recognizes a member who has worked diligently behind the scenes to make our chamber stronger.
X-ALT-DESC;FMTTYPE=text/html:<p style="box-sizing: border-box\; margin: 0px 0px 10px\; color: rgb(85\, 85\, 85)\; font-family: Raleway\, sans-serif\; font-size: 16px\; background-color: rgb(243\, 243\, 243)\;"><strong style="box-sizing: border-box\; font-weight: bold\;">MARK YOUR CALENDARS</strong>&nbsp\;to join us on February 26th for our Annual Victory Celebration when we will look back on our successes in 2025 and look forward to what is coming in 2026. Help us recognize our Chamber by submitting nominations for one (or all) of our four awards. We will collect nominations throughout January and send out a ballot in early February for you to vote on our award recipients. You can nominate by sending an email to&nbsp\;<a href="mailto:Director@dsmwestside.org" style="box-sizing: border-box\; background-color: transparent\; color: rgb(58\, 175\, 74)\; text-decoration-line: none\;">Director@dsmwestside.org</a>&nbsp\;with the name and accomplishments of your nominee or fill out the website form&nbsp\;<a href="http://members.dsmwestside.org/form/view/38305" style="box-sizing: border-box\; background-color: transparent\; color: rgb(58\, 175\, 74)\; text-decoration-line: none\;">here.</a>&nbsp\;<strong>Deadline to submit nominations via website form is 2/10.</strong>&nbsp\;</p>\n\n<p style="box-sizing: border-box\; margin: 0px 0px 10px\; color: rgb(85\, 85\, 85)\; font-family: Raleway\, sans-serif\; font-size: 16px\; background-color: rgb(243\, 243\, 243)\;"><span style="box-sizing: border-box\; text-decoration-line: underline\;"><strong style="box-sizing: border-box\; font-weight: bold\;">Ambassador of the Year Award</strong></span></p>\n\n<p style="box-sizing: border-box\; margin: 0px 0px 10px\; color: rgb(85\, 85\, 85)\; font-family: Raleway\, sans-serif\; font-size: 16px\; background-color: rgb(243\, 243\, 243)\;"><em style="box-sizing: border-box\;"><strong style="box-sizing: border-box\; font-weight: bold\;">Qualifications:</strong></em></p>\n\n<ul style="box-sizing: border-box\; margin-top: 0px\; margin-bottom: 10px\; color: rgb(85\, 85\, 85)\; font-family: Raleway\, sans-serif\; font-size: 16px\; background-color: rgb(243\, 243\, 243)\;">\n	<li style="box-sizing: border-box\;">Current Member of the Des Moines West Side Chamber</li>\n	<li style="box-sizing: border-box\;">Active\, Dedicated Member and Advocate of the Des Moines West Side Chamber (note: does not need to be on the Ambassadors committee to receive this award)</li>\n	<li style="box-sizing: border-box\;">We value connection. Our Ambassador of the Year recognizes a member with the gift of extraordinary welcome. It is someone who strengthens our chamber by going out of their way to make all of our members feel welcome and help them make connections with each other.</li>\n</ul>\n\n<p style="box-sizing: border-box\; margin: 0px 0px 10px\; color: rgb(85\, 85\, 85)\; font-family: Raleway\, sans-serif\; font-size: 16px\; background-color: rgb(243\, 243\, 243)\;"><span style="box-sizing: border-box\; text-decoration-line: underline\;"><strong style="box-sizing: border-box\; font-weight: bold\;">Business of the Year Award</strong></span></p>\n\n<p style="box-sizing: border-box\; margin: 0px 0px 10px\; color: rgb(85\, 85\, 85)\; font-family: Raleway\, sans-serif\; font-size: 16px\; background-color: rgb(243\, 243\, 243)\;"><em style="box-sizing: border-box\;"><strong style="box-sizing: border-box\; font-weight: bold\;">Qualifications:</strong></em></p>\n\n<ul style="box-sizing: border-box\; margin-top: 0px\; margin-bottom: 10px\; color: rgb(85\, 85\, 85)\; font-family: Raleway\, sans-serif\; font-size: 16px\; background-color: rgb(243\, 243\, 243)\;">\n	<li style="box-sizing: border-box\;">Current Member of the Des Moines West Side Chamber</li>\n	<li style="box-sizing: border-box\;">A business dedicated to connecting with the community of West Side Des Moines.</li>\n	<li style="box-sizing: border-box\;">We value commerce. Strong local businesses are the lifeblood of our community. Our Business of the Year recognizes a member business that has gone above and beyond during the year to give back to our community</li>\n</ul>\n\n<p style="box-sizing: border-box\; margin: 0px 0px 10px\; color: rgb(85\, 85\, 85)\; font-family: Raleway\, sans-serif\; font-size: 16px\; background-color: rgb(243\, 243\, 243)\;"><span style="box-sizing: border-box\; text-decoration-line: underline\;"><strong style="box-sizing: border-box\; font-weight: bold\;">Citizen of the Year</strong></span></p>\n\n<p style="box-sizing: border-box\; margin: 0px 0px 10px\; color: rgb(85\, 85\, 85)\; font-family: Raleway\, sans-serif\; font-size: 16px\; background-color: rgb(243\, 243\, 243)\;"><em style="box-sizing: border-box\;"><strong style="box-sizing: border-box\; font-weight: bold\;">Qualifications:</strong></em></p>\n\n<ul style="box-sizing: border-box\; margin-top: 0px\; margin-bottom: 10px\; color: rgb(85\, 85\, 85)\; font-family: Raleway\, sans-serif\; font-size: 16px\; background-color: rgb(243\, 243\, 243)\;">\n	<li style="box-sizing: border-box\;">Individual that is committed to the future and vibrancy of West Side and has exhibited that through support of the Des Moines West Side Chamber.</li>\n	<li style="box-sizing: border-box\;">We value community. Communities grow when our citizens give back. Our Citizen of the Year recognizes an individual on the Des Moines West Side\, member or non-member who has dedicated their time and efforts to improve the quality of life in our community over the last year.</li>\n</ul>\n\n<p style="box-sizing: border-box\; margin: 0px 0px 10px\; color: rgb(85\, 85\, 85)\; font-family: Raleway\, sans-serif\; font-size: 16px\; background-color: rgb(243\, 243\, 243)\;"><span style="box-sizing: border-box\; text-decoration-line: underline\;"><strong style="box-sizing: border-box\; font-weight: bold\;">Soozie McBroom Service Award</strong></span></p>\n\n<p style="box-sizing: border-box\; margin: 0px 0px 10px\; color: rgb(85\, 85\, 85)\; font-family: Raleway\, sans-serif\; font-size: 16px\; background-color: rgb(243\, 243\, 243)\;"><em style="box-sizing: border-box\;"><strong style="box-sizing: border-box\; font-weight: bold\;">Qualifications:</strong></em></p>\n\n<ul style="box-sizing: border-box\; margin-top: 0px\; margin-bottom: 10px\; color: rgb(85\, 85\, 85)\; font-family: Raleway\, sans-serif\; font-size: 16px\; background-color: rgb(243\, 243\, 243)\;">\n	<li style="box-sizing: border-box\;">Current Member of the Des Moines West Side Chamber</li>\n	<li style="box-sizing: border-box\;">Individual that is committed to the future and vibrancy of West Side and has exhibited that through support of the Des Moines West Side Chamber.</li>\n	<li style="box-sizing: border-box\;">We value contribution. Often times we don&rsquo\;t see the people &ldquo\;behind the curtain&rdquo\; who give their time and talents to keep all our organizational wheels turning smoothly. The Soozie McBroom Service Award recognizes a member who has worked diligently behind the scenes to make our chamber stronger.</li>\n</ul>\n
LOCATION:Wesley on Grand 3520 Grand Ave Des Moines\, IA 50312
UID:e.1726.3611
SEQUENCE:3
DTSTAMP:20260419T184047Z
URL:https://members.dsmwestside.org/events/details/annual-victory-celebration-2026-3611
END:VEVENT

END:VCALENDAR
