BEGIN:VCALENDAR
VERSION:2.0
PRODID:-//ChamberMaster//Event Calendar 2.0//EN
METHOD:PUBLISH
X-PUBLISHED-TTL:P3D
REFRESH-INTERVAL:P3D
CALSCALE:GREGORIAN
BEGIN:VEVENT
DTSTART:20250719T193000Z
DTEND:20250720T030000Z
X-MICROSOFT-CDO-ALLDAYEVENT:FALSE
SUMMARY:Beaverdale Bluegrass Festival
DESCRIPTION:The Beaverdale Bluegrass Festival is a celebration of local music and community. Our festival is free to the public and sponsored by the Beaverdale Neighborhood Association and local businesses. We aim to showcase the best bluegrass talent in Iowa while providing a fun and family-friendly atmosphere. Come and experience the unique spirit of Beaverdale!\n\n\n\nhttps://www.beaverdalebluegrass.com/
X-ALT-DESC;FMTTYPE=text/html:<span style="font-size: 16px\; caret-color: rgb(101\, 105\, 114)\; color: rgb(101\, 105\, 114)\; font-family: &quot\;Source Sans Pro&quot\;\, sans-serif\; background-color: rgb(246\, 244\, 243)\;">The Beaverdale Bluegrass Festival is a celebration of local music and community. Our festival is free to the public and sponsored by the Beaverdale Neighborhood Association and local businesses. We aim to showcase the best bluegrass talent in Iowa while providing a fun and family-friendly atmosphere. Come and experience the unique spirit of Beaverdale!</span><br />\n<br />\n<a href="https://www.beaverdalebluegrass.com/">https://www.beaverdalebluegrass.com/</a>
LOCATION:Tower Park at 48th and Hickman\, Des Moines\, IA 50310
UID:e.1726.3582
SEQUENCE:3
DTSTAMP:20260420T055805Z
URL:https://members.dsmwestside.org/events/details/beaverdale-bluegrass-festival-3582
END:VEVENT

END:VCALENDAR
