BEGIN:VCALENDAR
VERSION:2.0
PRODID:-//ChamberMaster//Event Calendar 2.0//EN
METHOD:PUBLISH
X-PUBLISHED-TTL:P3D
REFRESH-INTERVAL:P3D
CALSCALE:GREGORIAN
BEGIN:VEVENT
DTSTART:20251217T213000Z
DTEND:20251217T230000Z
X-MICROSOFT-CDO-ALLDAYEVENT:FALSE
SUMMARY:Book Club: Unreasonable Hospitality by Will Guidara
DESCRIPTION:Join us for our December book club!\n\nBooks can change lives. The key is taking what we read and putting it into action in our lives and businesses. Our book clubs invite you to read an inspiring business book and then come together with fellow members for discussion and accountability. Sharing insights\, takeaways\, and action steps helps ensure we follow through and make the impact we envision.\n\nWhat we're reading for December 17th:\n\nBook: Unreasonable Hospitality\n\nAuthor: Will Guidara
X-ALT-DESC;FMTTYPE=text/html:<p data-end="1018" data-start="981">Join us for our December book club!</p>\n\n<p data-end="1381" data-start="1020">Books can change lives. The key is taking what we read and putting it into action in our lives and businesses. Our book clubs invite you to read an inspiring business book and then come together with fellow members for discussion and accountability. Sharing insights\, takeaways\, and action steps helps ensure we follow through and make the impact we envision.</p>\n\n<p data-end="1492" data-start="1383"><strong data-end="1424" data-start="1383">What we&rsquo\;re reading for December 17th:</strong><br data-end="1427" data-start="1424" />\n<strong data-end="1436" data-start="1427">Book:</strong> <em data-end="1463" data-start="1437">Unreasonable Hospitality</em><br data-end="1466" data-start="1463" />\n<strong data-end="1477" data-start="1466">Author:</strong> Will Guidara</p>\n
LOCATION:Jethro's All Stars 721 3rd St Des Moines\, IA 50309
UID:e.1726.3607
SEQUENCE:3
DTSTAMP:20260419T220156Z
URL:https://members.dsmwestside.org/events/details/book-club-unreasonable-hospitality-by-will-guidara-3607
END:VEVENT

END:VCALENDAR
