BEGIN:VCALENDAR
VERSION:2.0
PRODID:-//ChamberMaster//Event Calendar 2.0//EN
METHOD:PUBLISH
X-PUBLISHED-TTL:P3D
REFRESH-INTERVAL:P3D
CALSCALE:GREGORIAN
BEGIN:VEVENT
DTSTART:20260402T213000Z
DTEND:20260402T230000Z
X-MICROSOFT-CDO-ALLDAYEVENT:FALSE
SUMMARY:Dinner Dispatch: New Location Ribbon Cutting & Celebration
DESCRIPTION:Dinner Dispatch has officially upgraded to a brand-new location!\n\nFor the past 7 years\, our small\, female-owned and operated business has been proud to make mealtime easier for the Des Moines metro and now we're thrilled to do even more in our new space\, which is three times larger than before.\n\nWe're also excited to introduce our newest addition: Drink Dispatch\, a cold-drink bar in our convenient Grab & Go area.\n\nWe would love to welcome our family\, friends\, customers\, and community members to 6587 University to celebrate with us. Join us for great food\, refreshing drinks\, and a whole lot of fun as we cut the ribbon on this exciting new chapter!\n\n\n\nPlease click here to RSVP. \n\nIf this link does not work\, please email dinnerdispatch@gmail.com.
X-ALT-DESC;FMTTYPE=text/html:<div class="x_gmail-xdj266r x_gmail-x14z9mp x_gmail-xat24cr x_gmail-x1lziwak x_gmail-x1vvkbs" data-olk-copy-source="MessageBody" style="border: 0px\; font-variant-numeric: inherit\; font-variant-east-asian: inherit\; font-variant-alternates: inherit\; font-variant-position: inherit\; font-variant-emoji: inherit\; font-stretch: inherit\; font-size: 15px\; line-height: inherit\; font-family: Roboto\, Helvetica\, Arial\, sans-serif\; font-optical-sizing: inherit\; font-size-adjust: inherit\; font-kerning: inherit\; font-feature-settings: inherit\; font-variation-settings: inherit\; margin: 0px\; padding: 0px\; vertical-align: baseline\; color: rgb(8\, 8\, 9)\;">Dinner Dispatch has officially upgraded to a brand-new location!</div>\n\n<div class="x_gmail-x14z9mp x_gmail-xat24cr x_gmail-x1lziwak x_gmail-x1vvkbs x_gmail-xtlvy1s" style="border: 0px\; font-variant-numeric: inherit\; font-variant-east-asian: inherit\; font-variant-alternates: inherit\; font-variant-position: inherit\; font-variant-emoji: inherit\; font-stretch: inherit\; font-size: 15px\; line-height: inherit\; font-family: Roboto\, Helvetica\, Arial\, sans-serif\; font-optical-sizing: inherit\; font-size-adjust: inherit\; font-kerning: inherit\; font-feature-settings: inherit\; font-variation-settings: inherit\; margin: 0.5em 0px 0px\; padding: 0px\; vertical-align: baseline\; color: rgb(8\, 8\, 9)\;">For the past 7 years\, our small\, female-owned and operated business has been proud to make mealtime easier for the Des Moines metro&mdash\;and now we&rsquo\;re thrilled to do even more in our new space\, which is three times larger than before.</div>\n\n<div class="x_gmail-x14z9mp x_gmail-xat24cr x_gmail-x1lziwak x_gmail-x1vvkbs x_gmail-xtlvy1s" style="border: 0px\; font-variant-numeric: inherit\; font-variant-east-asian: inherit\; font-variant-alternates: inherit\; font-variant-position: inherit\; font-variant-emoji: inherit\; font-stretch: inherit\; font-size: 15px\; line-height: inherit\; font-family: Roboto\, Helvetica\, Arial\, sans-serif\; font-optical-sizing: inherit\; font-size-adjust: inherit\; font-kerning: inherit\; font-feature-settings: inherit\; font-variation-settings: inherit\; margin: 0.5em 0px 0px\; padding: 0px\; vertical-align: baseline\; color: rgb(8\, 8\, 9)\;">We&rsquo\;re also excited to introduce our newest addition: Drink Dispatch\, a cold-drink bar in our convenient Grab &amp\; Go area.</div>\n\n<div class="x_gmail-x14z9mp x_gmail-xat24cr x_gmail-x1lziwak x_gmail-x1vvkbs x_gmail-xtlvy1s" style="border: 0px\; font-variant-numeric: inherit\; font-variant-east-asian: inherit\; font-variant-alternates: inherit\; font-variant-position: inherit\; font-variant-emoji: inherit\; font-stretch: inherit\; font-size: 15px\; line-height: inherit\; font-family: Roboto\, Helvetica\, Arial\, sans-serif\; font-optical-sizing: inherit\; font-size-adjust: inherit\; font-kerning: inherit\; font-feature-settings: inherit\; font-variation-settings: inherit\; margin: 0.5em 0px 0px\; padding: 0px\; vertical-align: baseline\; color: rgb(8\, 8\, 9)\;">We would love to welcome our family\, friends\, customers\, and community members to 6587 University to celebrate with us. Join us for great food\, refreshing drinks\, and a whole lot of fun as we cut the ribbon on this exciting new chapter!<br />\n<br />\nPlease click <a href="mailto:dinnerdispatch@gmail.com?subject=RSVP%20Dinner%20Dispatch%20New%20Location%20Ribbon%20Cutting&amp\;body=Yes!%20I'm%20attending.%0AName%3A%0ACompany">here</a> to RSVP.&nbsp\;<br />\nIf this link does not work\, please email dinnerdispatch@gmail.com.<br />\n&nbsp\;</div>\n
LOCATION:6587 University Ave Windsor Heights\, IA 50324
UID:e.1726.3638
SEQUENCE:3
DTSTAMP:20260421T095726Z
URL:https://members.dsmwestside.org/events/details/dinner-dispatch-new-location-ribbon-cutting-celebration-3638
END:VEVENT

END:VCALENDAR
