BEGIN:VCALENDAR
VERSION:2.0
PRODID:-//ChamberMaster//Event Calendar 2.0//EN
METHOD:PUBLISH
X-PUBLISHED-TTL:P3D
REFRESH-INTERVAL:P3D
CALSCALE:GREGORIAN
BEGIN:VEVENT
DTSTART:20251007T130000Z
DTEND:20251007T140000Z
X-MICROSOFT-CDO-ALLDAYEVENT:FALSE
SUMMARY:Downtown Breakfast Club: Iowa Wild
DESCRIPTION:Join the Des Moines West Side Chamber\, Des Moines Downtown Chamber\, and the Iowa Wild for Breakfast Club in the Flix Brewhouse Club in the Casey's Center.\n\nEnter through the VIP entrance on the north side of Casey's Center.\n\nPark in the green lot\, enter off of 5th Ave\, and let them know you are there for the Wild networking event.
X-ALT-DESC;FMTTYPE=text/html:<p style="box-sizing: border-box\; margin: 0px 0px 1rem\; line-height: 1.5\; color: rgb(44\, 44\, 44)\; font-family: Arial\; font-size: 14px\; text-align: justify\;">Join the Des Moines West Side Chamber\, Des Moines Downtown Chamber\, and&nbsp\;the Iowa Wild for&nbsp\;Breakfast Club in the Flix Brewhouse Club in the Casey&#39\;s Center.</p>\n\n<p style="box-sizing: border-box\; margin: 0px 0px 1rem\; line-height: 1.5\; color: rgb(44\, 44\, 44)\; font-family: Arial\; font-size: 14px\; text-align: justify\;">Enter through the VIP entrance on the north side of Casey&#39\;s Center.</p>\n\n<p style="box-sizing: border-box\; margin: 0px\; line-height: 1.5\; color: rgb(44\, 44\, 44)\; font-family: Arial\; font-size: 14px\; text-align: justify\;">Park in the green lot\, enter off of 5th Ave\, and let them know you are there for the Wild networking event.&nbsp\;</p>\n
LOCATION:Casey's Center 233 Center St Des Moines\, IA 50309
UID:e.1726.3599
SEQUENCE:3
DTSTAMP:20260420T011327Z
URL:https://members.dsmwestside.org/events/details/downtown-breakfast-club-iowa-wild-3599
END:VEVENT

END:VCALENDAR
