BEGIN:VCALENDAR
VERSION:2.0
PRODID:-//ChamberMaster//Event Calendar 2.0//EN
METHOD:PUBLISH
X-PUBLISHED-TTL:P3D
REFRESH-INTERVAL:P3D
CALSCALE:GREGORIAN
BEGIN:VEVENT
DTSTART:20250827T140000Z
DTEND:20250827T150000Z
X-MICROSOFT-CDO-ALLDAYEVENT:FALSE
SUMMARY:Drake Neighborhood Forest Ave. Row Homes Ribbon Cutting Ceremony co-hosted by NDC
DESCRIPTION:DEV Partners announces the opening of an 18-unit middle-density housing development in the vibrant Drake neighborhood\, set for August 2025. The project activates the Forest Avenue corridor north of Drake University\, offering six two-story\, two-bedroom units averaging 1\,100 square feet and stylish 600-square-foot one-bedroom flats.\n\nLocated within walking distance of Drake University's campus\, sporting venues\, and the bustling commercial area known as "Dog Town\," the project connects residents to the energy of the university district and nearby neighborhoods\, including Downtown and Beaverdale. Supported by local partners Peoples Bank\, Neighborhood Development Corporation\, City of Des Moines\, and Iowa Economic Development Authority's Workforce Housing Tax Credit Program\, the project enhances community growth and livability.
X-ALT-DESC;FMTTYPE=text/html:<p data-olk-copy-source="MessageBody" style="caret-color: rgb(0\, 0\, 0)\; color: rgb(0\, 0\, 0)\;">DEV Partners announces the opening of an 18-unit middle-density housing development in the vibrant Drake neighborhood\, set for August 2025. The project activates the Forest Avenue corridor north of Drake University\, offering six two-story\, two-bedroom units averaging 1\,100 square feet and stylish 600-square-foot one-bedroom flats.</p>\n\n<p style="caret-color: rgb(0\, 0\, 0)\; color: rgb(0\, 0\, 0)\;">Located within walking distance of Drake University&rsquo\;s campus\, sporting venues\, and the bustling commercial area known as &quot\;Dog Town\,&quot\; the project connects residents to the energy of the university district and nearby neighborhoods\, including Downtown and Beaverdale. Supported by local partners Peoples Bank\, Neighborhood Development Corporation\, City of Des Moines\, and Iowa Economic Development Authority&rsquo\;s Workforce Housing Tax Credit Program\, the project enhances community growth and livability.</p>\n\n<p style="caret-color: rgb(0\, 0\, 0)\; color: rgb(0\, 0\, 0)\;">&nbsp\;</p>\n
LOCATION:3103 Forest Ave. Des Moines\, IA 50311
UID:e.1726.3584
SEQUENCE:3
DTSTAMP:20260420T042138Z
URL:https://members.dsmwestside.org/events/details/drake-neighborhood-forest-ave-row-homes-ribbon-cutting-ceremony-co-hosted-by-ndc-3584
END:VEVENT

END:VCALENDAR
