BEGIN:VCALENDAR
VERSION:2.0
PRODID:-//ChamberMaster//Event Calendar 2.0//EN
METHOD:PUBLISH
X-PUBLISHED-TTL:P3D
REFRESH-INTERVAL:P3D
CALSCALE:GREGORIAN
BEGIN:VEVENT
DTSTART:20230204T013000Z
DTEND:20230204T030000Z
X-MICROSOFT-CDO-ALLDAYEVENT:FALSE
SUMMARY:DSM Playhouse Opening: August Wilson's The Piano Lesson - Thru Feb 19th
DESCRIPTION:It is 1936 and Boy Willie arrives in Pittsburgh\, full of aspirations. He has an opportunity to buy some land but needs to come up with the money quick. He wants to sell an old piano that has been in his family for generations\, but he shares ownership with his sister\, Berniece. An antique covered with incredible carvings that detail the family's history\, Berniece has already rejected several offers for the piano. Boy Willie tries to persuade his sister that the past is the past\, but Berniece is more formidable than he anticipated.
X-ALT-DESC;FMTTYPE=text/html:It is 1936 and Boy Willie arrives in Pittsburgh\, full of aspirations. He has an opportunity to buy some land but needs to come up with the money quick. He wants to sell an old piano that has been in his family for generations\, but he shares ownership with his sister\, Berniece. An antique covered with incredible carvings that detail the family&rsquo\;s history\, Berniece has already rejected several offers for the piano. Boy Willie tries to persuade his sister that the past is the past\, but Berniece is more formidable than he anticipated.
LOCATION:The Des Moines Playhouse
UID:e.1726.2541
SEQUENCE:3
DTSTAMP:20260423T014106Z
URL:https://members.dsmwestside.org/events/details/dsm-playhouse-opening-august-wilson-s-the-piano-lesson-thru-feb-19th-2541
END:VEVENT

END:VCALENDAR
