BEGIN:VCALENDAR
VERSION:2.0
PRODID:-//ChamberMaster//Event Calendar 2.0//EN
METHOD:PUBLISH
X-PUBLISHED-TTL:P3D
REFRESH-INTERVAL:P3D
CALSCALE:GREGORIAN
BEGIN:VEVENT
DTSTART:20260312T210000Z
DTEND:20260312T220000Z
X-MICROSOFT-CDO-ALLDAYEVENT:FALSE
SUMMARY:Gameday - Beyond Our Boundary\, The Urbandale Chamber with the DSM West Side Chamber
DESCRIPTION:The DSM West Side Chamber of Commerce\, in partnership with the Urbandale Chamber of Commerce\, proudly presents Beyond Our Boundary a dynamic opportunity designed to foster connections well beyond traditional geographic lines.\n\n\n\nMembership status? It doesn't matter!\n\nOpen to all who would like to network!\n\nPlease register in advance\, as space is limited.
X-ALT-DESC;FMTTYPE=text/html:<p data-end="370" data-start="137" style="box-sizing: border-box\; margin: 0px 0px 1rem\; color: rgb(68\, 68\, 68)\; font-family: Raleway\, sans-serif\; font-size: 16px\; background-color: rgb(243\, 243\, 243)\;">The&nbsp\;<span data-end="174" data-start="141" style="box-sizing: border-box\; font-weight: bolder\;">DSM West Side Chamber of Commerce</span>\, in partnership with the&nbsp\;<span data-end="233" data-start="200" style="box-sizing: border-box\; font-weight: bolder\;">Urbandale Chamber of Commerce</span>\, proudly presents&nbsp\;<span data-end="275" data-start="252" style="box-sizing: border-box\; font-weight: bolder\;">Beyond Our Boundary</span>&mdash\;a dynamic opportunity designed to foster connections well beyond traditional geographic lines.<br style="box-sizing: border-box\;" />\n<br data-end="929" data-start="926" style="box-sizing: border-box\;" />\n<span data-end="970" data-start="929" style="box-sizing: border-box\; font-weight: bolder\;">Membership status? It doesn&rsquo\;t matter!</span></p>\n\n<p data-end="1241" data-is-last-node="" data-is-only-node="" data-start="972" style="box-sizing: border-box\; margin: 0px 0px 1rem\; color: rgb(68\, 68\, 68)\; font-family: Raleway\, sans-serif\; font-size: 16px\; background-color: rgb(243\, 243\, 243)\;">Open to all who would like to network!<br />\nPlease&nbsp\;<a href="https://uniquelyurbandale.chambermaster.com/eventregistration/register/17740">register in advance</a>\, as space is limited.</p>\n
LOCATION:Gameday (Located in Merle Hay Mall - park behind Target) 3800 Merle Hay Rd.\, Ste. 1205 Des Moines\, IA 50310
UID:e.1726.3634
SEQUENCE:3
DTSTAMP:20260419T171530Z
URL:https://members.dsmwestside.org/events/details/gameday-beyond-our-boundary-the-urbandale-chamber-with-the-dsm-west-side-chamber-3634
END:VEVENT

END:VCALENDAR
