BEGIN:VCALENDAR
VERSION:2.0
PRODID:-//ChamberMaster//Event Calendar 2.0//EN
METHOD:PUBLISH
X-PUBLISHED-TTL:P3D
REFRESH-INTERVAL:P3D
CALSCALE:GREGORIAN
BEGIN:VEVENT
DTSTART:20250823T200000Z
DTEND:20250824T030000Z
X-MICROSOFT-CDO-ALLDAYEVENT:FALSE
SUMMARY:Ingersoll Live!
DESCRIPTION:Ingersoll LIVE\, presented by Bankers Trust\, is the ultimate neighborhood block party! The beloved annual event features live entertainment\, family-friendly fun\, local vendors\, food & drink and more to enjoy along Ingersoll Avenue.
X-ALT-DESC;FMTTYPE=text/html:<h5 style="box-sizing: border-box\; vertical-align: baseline\; font-family: Helvetica\, sans-serif\; font-size: 20px\; outline: 0px\; padding: 0px\; margin: 0px\; border: 0px\; -webkit-font-smoothing: antialiased\; line-height: 32px\; color: rgb(0\, 0\, 0)\; letter-spacing: -0.5px\; caret-color: rgb(0\, 0\, 0)\;">Ingersoll LIVE\, presented by Bankers Trust\, is the ultimate neighborhood block party! The beloved annual event features live entertainment\, family-friendly fun\, local vendors\, food &amp\; drink and more to enjoy along Ingersoll Avenue.</h5>\n
LOCATION:2800 Block of Ingersoll Ave
UID:e.1726.3592
SEQUENCE:3
DTSTAMP:20260420T041821Z
URL:https://members.dsmwestside.org/events/details/ingersoll-live-08-23-2025-3592
END:VEVENT

END:VCALENDAR
