BEGIN:VCALENDAR
VERSION:2.0
PRODID:-//ChamberMaster//Event Calendar 2.0//EN
METHOD:PUBLISH
X-PUBLISHED-TTL:P3D
REFRESH-INTERVAL:P3D
CALSCALE:GREGORIAN
BEGIN:VEVENT
DTSTART:20250724T163000Z
DTEND:20250724T180000Z
X-MICROSOFT-CDO-ALLDAYEVENT:FALSE
SUMMARY:Joint Speed Networking Luncheon w/ Clive and Waukee Chambers
DESCRIPTION:Join us for a thrilling afternoon of business networking as the Clive\, DSM West Side\, and Waukee Area Chambers of Commerce come together for a partnered speed networking luncheon.\n\n \n\nGet ready to mix and mingle with fellow entrepreneurs\, executives\, and community leaders in a fast-paced and energizing atmosphere.\n\n\n\nThis event is perfect for anyone looking to expand their professional circle and discover new business opportunities. Plus\, you'll get to enjoy a delicious lunch while you network!\n\n\n\nSo mark your calendars for July 24th from 11:30am to 1:00pm\, and join us at The Monroe for an unforgettable afternoon of business networking. We can't wait to see you there!\n\n\n\nLunch Choices: Lunch will be caterer by Jersey Mike's\n\nEach sandwich is served with cookie\, chips and bottled water\n\n\n	Ham and Provolone with onions\, lettuce\, tomatoes\, red wine vinegar\, olive oil blend\, oregano and salt on white bread.\n	The Veggie: Swiss\, provolone\, green bell peppers\, onions\, lettuce\, tomatoes\, red wine vinegar\, olive oil blend\, oregano\, and salt on white bread.\n	Turkey and Provolone with onions\, lettuce\, tomatoes\, red wine vinegar\, olive oil blend\, oregano and salt on white bread.\n	Roast Beef and Provolone with onions\, lettuce\, tomatoes\, red wine vinegar\, olive oil blend\, oregano and salt on white bread.
X-ALT-DESC;FMTTYPE=text/html:<div style="box-sizing: border-box\; font-family: museo-sans\, sans-serif\; font-size: 15px\;"><span style="font-size:14px\;">Join us for a thrilling afternoon of business networking as the Clive\, DSM West Side\, and Waukee Area Chambers of Commerce come together for a partnered speed networking luncheon.</span><br style="box-sizing: border-box\;" />\n&nbsp\;</div>\n\n<div style="box-sizing: border-box\; font-family: museo-sans\, sans-serif\; font-size: 15px\;"><span style="font-size:14px\;">Get ready to mix and mingle with fellow entrepreneurs\, executives\, and community leaders in a fast-paced and energizing atmosphere.</span></div>\n\n<div style="box-sizing: border-box\; font-family: museo-sans\, sans-serif\; font-size: 15px\;"><br style="box-sizing: border-box\;" />\n<span style="font-size:14px\;">This event is perfect for anyone looking to expand their professional circle and discover new business opportunities. Plus\, you&#39\;ll get to enjoy a delicious lunch while you network!</span></div>\n\n<div style="box-sizing: border-box\; font-family: museo-sans\, sans-serif\; font-size: 15px\;"><br style="box-sizing: border-box\;" />\n<span style="font-size:14px\;">So mark your calendars for July 24th from 11:30am to 1:00pm\, and join us at The Monroe for an unforgettable afternoon of business networking. We can&#39\;t wait to see you there!<br style="box-sizing: border-box\;" />\n<br style="box-sizing: border-box\;" />\n<span style="box-sizing: border-box\;">Lunch Choices:</span>&nbsp\;Lunch will be caterer by Jersey Mike&#39\;s<br style="box-sizing: border-box\;" />\nEach sandwich is served with cookie\, chips and bottled water</span></div>\n\n<ul style="box-sizing: border-box\; font-family: museo-sans\, sans-serif\; margin-top: 0px\; margin-bottom: 1rem\; font-size: 15px\;">\n	<li style="box-sizing: border-box\; margin: 0px\; font-size: 1.1em\; line-height: 1.8em\;"><span style="font-size:14px\;">Ham and Provolone with onions\, lettuce\, tomatoes\, red wine vinegar\, olive oil blend\, oregano and salt on white bread.</span></li>\n	<li style="box-sizing: border-box\; margin: 0px\; font-size: 1.1em\; line-height: 1.8em\;"><span style="font-size:14px\;">The Veggie: Swiss\, provolone\, green bell peppers\, onions\, lettuce\, tomatoes\, red wine vinegar\, olive oil blend\, oregano\, and salt on white bread.</span></li>\n	<li style="box-sizing: border-box\; margin: 0px\; font-size: 1.1em\; line-height: 1.8em\;"><span style="font-size:14px\;">Turkey and Provolone with onions\, lettuce\, tomatoes\, red wine vinegar\, olive oil blend\, oregano and salt on white bread.</span></li>\n	<li style="box-sizing: border-box\; margin: 0px\; font-size: 1.1em\; line-height: 1.8em\;"><span style="font-size:14px\;">Roast Beef and Provolone with onions\, lettuce\, tomatoes\, red wine vinegar\, olive oil blend\, oregano and salt on white bread.</span></li>\n</ul>\n
LOCATION:The Monroe 1805 90th Street West Des Moines\, IA 50266
UID:e.1726.3566
SEQUENCE:3
DTSTAMP:20260420T055805Z
URL:https://members.dsmwestside.org/events/details/joint-speed-networking-luncheon-w-clive-and-waukee-chambers-3566
END:VEVENT

END:VCALENDAR
