BEGIN:VCALENDAR
VERSION:2.0
PRODID:-//ChamberMaster//Event Calendar 2.0//EN
METHOD:PUBLISH
X-PUBLISHED-TTL:P3D
REFRESH-INTERVAL:P3D
CALSCALE:GREGORIAN
BEGIN:VEVENT
DTSTART:20251209T173000Z
DTEND:20251209T190000Z
X-MICROSOFT-CDO-ALLDAYEVENT:FALSE
SUMMARY:Lunch and Learn: MANIFEST THE BEST with Sparky SINN\, Iowa’s Most-Watched Livestreamer!
DESCRIPTION:MANIFEST THE BEST with Iowa's Most-Watched Livestreamer!\n\nSeth Churchill\, known worldwide as the artist Sparky SINN\, is Iowa's most-watched livestreamer. In just over one year of consistent streaming on YouTube and TikTok with more than 270 episodes\, he has built a global audience and transformed his YouTube livestream music show into a full-time\, revenue-generating business. Each episode now reaches tens of thousands\, and sometimes more than 100\,000\, live viewers around the world.\n\n"Live from the 515  Live streams from the Field of Dreams  If you build it\, will they come? They come by the tens of thousands every night!"\n\nTopics he will cover include:\n\n- The power of spreading positivity\n\n- Why consistency is the key to everything\n\n- How innovation online can go viral\n\n- Pro tips for YouTube\, TikTok\, livestreaming\, and starting a podcast\n\nMANIFEST THE BEST\n\nMILLION BILLION\n\nTO THE MOON\n\nFollow Sparky SINN on YouTube\, TikTok\, Twitch\, Instagram\, Facebook\, and all major social platforms.\n\nFor business inquiries: SparkySINNyt@gmail.com
X-ALT-DESC;FMTTYPE=text/html:<p data-end="122" data-start="62"><span style="color:#000000\;"><span style="font-size:14px\;"><strong data-end="122" data-start="62">MANIFEST THE BEST with Iowa&rsquo\;s Most-Watched Livestreamer!</strong></span></span></p>\n\n<p data-end="556" data-start="124"><span style="color:#000000\;"><span style="font-size:14px\;">Seth Churchill\, known worldwide as the artist <strong data-end="185" data-start="170">Sparky SINN</strong>\, is Iowa&rsquo\;s most-watched livestreamer. In just over one year of consistent streaming on YouTube and TikTok with more than 270 episodes\, he has built a global audience and transformed his YouTube livestream music show into a full-time\, revenue-generating business. Each episode now reaches tens of thousands\, and sometimes more than 100\,000\, live viewers around the world.</span></span></p>\n\n<p data-end="702" data-start="558"><span style="color:#000000\;"><span style="font-size:14px\;">&ldquo\;<strong data-end="701" data-start="559">Live from the 515&hellip\; Live streams from the Field of Dreams&hellip\; If you build it\, will they come? They come by the tens of thousands every night!</strong>&rdquo\;</span></span></p>\n\n<p data-end="739" data-start="704"><span style="color:#000000\;"><span style="font-size:14px\;"><strong data-end="737" data-start="704">Topics he will cover include:</strong></span></span></p>\n\n<p data-end="777" data-start="742"><span style="color:#000000\;"><span style="font-size:14px\;">- The power of spreading positivity</span></span></p>\n\n<p data-end="822" data-start="780"><span style="color:#000000\;"><span style="font-size:14px\;">- Why consistency is the key to everything</span></span></p>\n\n<p data-end="861" data-start="825"><span style="color:#000000\;"><span style="font-size:14px\;">- How innovation online can go viral</span></span></p>\n\n<p data-end="933" data-start="864"><span style="color:#000000\;"><span style="font-size:14px\;">- Pro tips for YouTube\, TikTok\, livestreaming\, and starting a podcast</span></span></p>\n\n<p data-end="996" data-start="935"><span style="color:#000000\;"><span style="font-size:14px\;"><strong data-end="956" data-start="935">MANIFEST THE BEST</strong><br data-end="959" data-start="956" />\n<strong data-end="978" data-start="959">MILLION BILLION</strong><br data-end="981" data-start="978" />\n<strong data-end="996" data-start="981">TO THE MOON</strong></span></span></p>\n\n<p data-end="1097" data-start="998"><span style="color:#000000\;"><span style="font-size:14px\;">Follow Sparky SINN on YouTube\, TikTok\, Twitch\, Instagram\, Facebook\, and all major social platforms.</span></span></p>\n\n<p data-end="1149" data-start="1099"><span style="font-size:14px\;"><span style="color:#000000\;">For business inquiries: </span><strong data-end="1149" data-start="1123"><a class="decorated-link cursor-pointer" data-end="1147" data-start="1125" rel="noopener"><span style="color:#000000\;">SparkySINNyt@gmail.com</span></a></strong></span></p>\n\n<p data-end="1149" data-start="1099">&nbsp\;</p>\n
LOCATION:IMPACT Community Action Partnership 3226 University Ave Des Moines\, IA 50311 Please park at the 3306 University Ave parking lot.
UID:e.1726.3317
SEQUENCE:3
DTSTAMP:20260419T220527Z
URL:https://members.dsmwestside.org/events/details/lunch-and-learn-manifest-the-best-with-sparky-sinn-iowa-s-most-watched-livestreamer-3317
END:VEVENT

END:VCALENDAR
