BEGIN:VCALENDAR
VERSION:2.0
PRODID:-//ChamberMaster//Event Calendar 2.0//EN
METHOD:PUBLISH
X-PUBLISHED-TTL:P3D
REFRESH-INTERVAL:P3D
CALSCALE:GREGORIAN
BEGIN:VEVENT
DTSTART:20251014T163000Z
DTEND:20251014T180000Z
X-MICROSOFT-CDO-ALLDAYEVENT:FALSE
SUMMARY:Lunch and Learn: Mental Health
DESCRIPTION:Leading Well: Mental Health Strategies for Small Business Success\n\n \n\nRunning a business can be exciting and rewarding   but it can also feel overwhelming at times. The stress\, long hours\, and constant responsibilities take a toll\, and when that happens\, it doesn't just affect you\, it affects your business too. In this Lunch & Learn\, Kristi Kerner\, Executive Director of Mindspring Mental Health Alliance\, will share simple\, practical tools to help you care for your own mental health and support those around you. Together we'll talk about how to reduce stigma\, spot signs of burnout\, and create a culture of well-being   even if you're a business of one. This will be an interactive\, down-to-earth session with real stories\, actionable tips\, and free resources designed to help you and your business thrive.
X-ALT-DESC;FMTTYPE=text/html:<p style="color: rgb(64\, 63\, 66)\; font-family: Arial\, Verdana\, Helvetica\, sans-serif\; font-size: 12px\; margin: 0px\;"><span data-olk-copy-source="MessageBody" style="border: 0px\; font-style: inherit\; font-variant: inherit\; font-weight: inherit\; font-stretch: inherit\; font-size: 16px\; line-height: inherit\; font-family: Arial\, Verdana\, Helvetica\, sans-serif\, serif\, EmojiFont\; font-optical-sizing: inherit\; font-size-adjust: inherit\; font-kerning: inherit\; font-feature-settings: inherit\; font-variation-settings: inherit\; margin: 0px\; padding: 0px\; vertical-align: baseline\; color: rgb(0\, 0\, 0)\; text-decoration-line: underline\;">Leading Well: Mental Health Strategies for Small Business Success</span></p>\n\n<p style="color: rgb(64\, 63\, 66)\; font-family: Arial\, Verdana\, Helvetica\, sans-serif\; font-size: 12px\; margin: 0px\;">&nbsp\;</p>\n\n<p style="color: rgb(64\, 63\, 66)\; font-family: Arial\, Verdana\, Helvetica\, sans-serif\; font-size: 12px\; margin: 0px\;"><span style="border: 0px\; font-style: inherit\; font-variant: inherit\; font-weight: inherit\; font-stretch: inherit\; font-size: 16px\; line-height: inherit\; font-family: Arial\, Verdana\, Helvetica\, sans-serif\, serif\, EmojiFont\; font-optical-sizing: inherit\; font-size-adjust: inherit\; font-kerning: inherit\; font-feature-settings: inherit\; font-variation-settings: inherit\; margin: 0px\; padding: 0px\; vertical-align: baseline\; color: rgb(0\, 0\, 0)\;">Running a business can be exciting and rewarding &mdash\; but it can also feel overwhelming at times. The stress\, long hours\, and constant responsibilities take a toll\, and when that happens\, it doesn&rsquo\;t just affect you\, it affects your business too. In this Lunch &amp\; Learn\, Kristi Kerner\, Executive Director of Mindspring Mental Health Alliance\, will share simple\, practical tools to help you care for your own mental health and support those around you. Together we&rsquo\;ll talk about how to reduce stigma\, spot signs of burnout\, and create a culture of well-being &mdash\; even if you&rsquo\;re a business of one. This will be an interactive\, down-to-earth session with real stories\, actionable tips\, and free resources designed to help you and your business thrive.</span></p>\n
LOCATION:DMACC Urban Campus Building 7 (Student Life Building) Room 170/171 located on the first floor View campus map here.
UID:e.1726.3316
SEQUENCE:3
DTSTAMP:20260420T011242Z
URL:https://members.dsmwestside.org/events/details/lunch-and-learn-mental-health-3316
END:VEVENT

END:VCALENDAR
