BEGIN:VCALENDAR
VERSION:2.0
PRODID:-//ChamberMaster//Event Calendar 2.0//EN
METHOD:PUBLISH
X-PUBLISHED-TTL:P3D
REFRESH-INTERVAL:P3D
CALSCALE:GREGORIAN
BEGIN:VEVENT
DTSTART:20230608T163000Z
DTEND:20230608T180000Z
X-MICROSOFT-CDO-ALLDAYEVENT:FALSE
SUMMARY:Lunch and Learn: Tax Update
DESCRIPTION:Tax Update\n\n\n\nPresenter:\n\nTarbell and Company\n\n\n\nJoin the West Side Chamber for great networking while learning about this important topic.\n\n\n\n11:30 am - Networking\n\n12:00 pm - Presentation\n\n12:45 pm - Q and A
X-ALT-DESC;FMTTYPE=text/html:<br />\n<strong>Tax Update</strong><br />\n<br />\n<u>Presenter:</u><br />\n<strong>Tarbell and Company</strong><br />\n<br />\nJoin the West Side Chamber for great networking while learning about this important topic.<br />\n<br />\n11:30 am - Networking<br />\n12:00 pm - Presentation<br />\n12:45 pm - Q and A
LOCATION:Tarbell and Co. 1466 28th St West Des Moines\, IA 50266
UID:e.1726.3253
SEQUENCE:3
DTSTAMP:20260421T005912Z
URL:https://members.dsmwestside.org/events/details/lunch-and-learn-tax-update-3253
END:VEVENT

END:VCALENDAR
