BEGIN:VCALENDAR
VERSION:2.0
PRODID:-//ChamberMaster//Event Calendar 2.0//EN
METHOD:PUBLISH
X-PUBLISHED-TTL:P3D
REFRESH-INTERVAL:P3D
CALSCALE:GREGORIAN
BEGIN:VEVENT
DTSTART:20230209T173000Z
DTEND:20230209T190000Z
X-MICROSOFT-CDO-ALLDAYEVENT:FALSE
SUMMARY:Lunch and Learn: Workshop - How to Brand your Business Using the Chamber Member Page
DESCRIPTION:Workshop - How to Brand your Business using the DSM West Side Chamber Member Page\n\n\n\n***Bring your own computer***\n\n\n\nGet a refresher or learn for the first time how to maximize your online presense:\n\n	Build or improve your company profile.\n	Refresh and make updates to your company page.\n	Update company representatives.\n	Offer deals to the community or specifically to chamber members.\n	Find out how your chamber profile helps with SEO for your business.\n\nPresenter - Andi Fagen with Creative DSM\n\n\n\nJoin the West Side Chamber for great networking while learning about an important topic or issue.\n\n\n\n11:30 am - Networking\n\n12:00 pm - Presentation\n\n12:45 pm - Q and A
X-ALT-DESC;FMTTYPE=text/html:<blockquote style="color: rgb(34\, 34\, 34)\; font-family: Arial\, Helvetica\, sans-serif\; font-size: small\; background-color: rgb(255\, 255\, 255)\; margin: 0px 0px 0px 40px\; border: none\; padding: 0px\;">\n<div><br />\n&nbsp\;</div>\n</blockquote>\n<strong>Workshop - How to Brand your Business using the DSM West Side Chamber Member Page</strong><br />\n<br />\n***Bring your own computer***<br />\n<br />\nGet a refresher or learn for the first time how to maximize your online presense:\n<ul>\n	<li>Build or improve your company profile.</li>\n	<li>Refresh and make updates to your company page.</li>\n	<li>Update company representatives.</li>\n	<li>Offer deals to the community or specifically to chamber members.</li>\n	<li>Find out how your chamber profile helps with SEO for your business.</li>\n</ul>\nPresenter - Andi Fagen with Creative DSM<br />\n<br />\nJoin the West Side Chamber for great networking while learning about an important topic or issue.<br />\n<br />\n11:30 am - Networking<br />\n12:00 pm - Presentation<br />\n12:45 pm - Q and A
LOCATION:Des Moines Playhouse
UID:e.1726.3186
SEQUENCE:3
DTSTAMP:20260421T221041Z
URL:https://members.dsmwestside.org/events/details/lunch-and-learn-workshop-how-to-brand-your-business-using-the-chamber-member-page-3186
END:VEVENT

END:VCALENDAR
