BEGIN:VCALENDAR
VERSION:2.0
PRODID:-//ChamberMaster//Event Calendar 2.0//EN
METHOD:PUBLISH
X-PUBLISHED-TTL:P3D
REFRESH-INTERVAL:P3D
CALSCALE:GREGORIAN
BEGIN:VEVENT
DTSTART:20260101T023000Z
DTEND:20260101T070000Z
X-MICROSOFT-CDO-ALLDAYEVENT:FALSE
SUMMARY:New Year’s Eve with Grand Marquis – Holiday Giveaway Presented by the Ingersoll & West Side Chamber
DESCRIPTION:NEW YEAR'S EVE WITH GRAND MARQUIS   THE INGERSOLL DINNER THEATER  \n\nDecember 31st   Dining at 8:30 PM   Show at 10:30 PM\n\nRing in 2026 in unforgettable style at The Ingersoll Dinner Theater's premier New Year's Eve celebration featuring Grand Marquis   a powerhouse blend of Kansas City blues\, Memphis soul\, and New Orleans second-line energy. With resounding horns\, a grooving rhythm section\, and soulful vocals\, Grand Marquis brings a rich\, captivating sound that honors American roots while keeping the pulse of the 21st century alive. Their two decades of nationwide performances\, award-winning recordings\, and soulful storytelling make this the perfect soundtrack to your New Year's Eve.\n\nYour evening begins with a gourmet dining experience\, including a house salad\, freshly baked breads with creamy butter\, an expertly prepared entr e\, and standard beverage service. Alcohol\, desserts\, and starters are available for an additional charge. Dinner service begins at 8:30 PM\, followed by the 10:30 PM performance.\n\nAs the clock strikes midnight\, celebrate the arrival of New Year's 2026 with a festive countdown and a complimentary champagne toast.\n\n\n  SPECIAL HOLIDAY GIVEAWAY   Presented with The West Side Chamber of Commerce\n\nWe're kicking off the season with a Christmas giveaway for two tickets (up to $125 value each!) to an upcoming Ingersoll Dinner Theater show of your choice.\n\nGiveaway runs December 3 10 and will be posted on the West Side Chamber's socials.\n\nHow to Enter:\n\n1   Follow The West Side Chamber and The Ingersoll on Facebook & Instagram\n\nOn the platform where you see the post:\n\n2   Like the post\n\n3   Share it to your stories\n\n4   Tag the person you'd bring with you\n\nThis giveaway could be the perfect Christmas gift   and a chance to start the new year with world-class entertainment. Make sure to lookout for this post on December 3rd!\n\n\nJoin us for a night of music\, dining\, celebration\, and unforgettable memories.\n\nVisit The Ingersoll's website for event details and tickets: www.theingersoll.com/events
X-ALT-DESC;FMTTYPE=text/html:<div class="x_elementToProof" style="border: 0px\; font-variant-numeric: inherit\; font-variant-east-asian: inherit\; font-variant-alternates: inherit\; font-variant-position: inherit\; font-variant-emoji: inherit\; font-stretch: inherit\; font-size: 12pt\; line-height: inherit\; font-family: Aptos\, Aptos_EmbeddedFont\, Aptos_MSFontService\, Calibri\, Helvetica\, sans-serif\, serif\, EmojiFont\; font-optical-sizing: inherit\; font-size-adjust: inherit\; font-kerning: inherit\; font-feature-settings: inherit\; font-variation-settings: inherit\; margin: 1em 0px\; padding: 0px\; vertical-align: baseline\; color: rgb(0\, 0\, 0) !important\;"><b data-olk-copy-source="MessageBody">&#127881\; NEW YEAR&rsquo\;S EVE WITH GRAND MARQUIS &bull\; THE INGERSOLL DINNER THEATER &#127881\;</b><br />\n<b>December 31st &bull\; Dining at 8:30 PM &bull\; Show at 10:30 PM</b></div>\n\n<div class="x_elementToProof" style="border: 0px\; font-variant-numeric: inherit\; font-variant-east-asian: inherit\; font-variant-alternates: inherit\; font-variant-position: inherit\; font-variant-emoji: inherit\; font-stretch: inherit\; font-size: 12pt\; line-height: inherit\; font-family: Aptos\, Aptos_EmbeddedFont\, Aptos_MSFontService\, Calibri\, Helvetica\, sans-serif\, serif\, EmojiFont\; font-optical-sizing: inherit\; font-size-adjust: inherit\; font-kerning: inherit\; font-feature-settings: inherit\; font-variation-settings: inherit\; margin: 1em 0px\; padding: 0px\; vertical-align: baseline\; color: rgb(0\, 0\, 0) !important\;">Ring in 2026 in unforgettable style at&nbsp\;<i>The Ingersoll Dinner Theater&rsquo\;s</i>&nbsp\;premier New Year&rsquo\;s Eve celebration featuring&nbsp\;<b>Grand Marquis</b>&nbsp\;&mdash\; a powerhouse blend of Kansas City blues\, Memphis soul\, and New Orleans second-line energy. With resounding horns\, a grooving rhythm section\, and soulful vocals\, Grand Marquis brings a rich\, captivating sound that honors American roots while keeping the pulse of the 21st century alive. Their two decades of nationwide performances\, award-winning recordings\, and soulful storytelling make this the perfect soundtrack to your New Year&rsquo\;s Eve.</div>\n\n<div class="x_elementToProof" style="border: 0px\; font-variant-numeric: inherit\; font-variant-east-asian: inherit\; font-variant-alternates: inherit\; font-variant-position: inherit\; font-variant-emoji: inherit\; font-stretch: inherit\; font-size: 12pt\; line-height: inherit\; font-family: Aptos\, Aptos_EmbeddedFont\, Aptos_MSFontService\, Calibri\, Helvetica\, sans-serif\, serif\, EmojiFont\; font-optical-sizing: inherit\; font-size-adjust: inherit\; font-kerning: inherit\; font-feature-settings: inherit\; font-variation-settings: inherit\; margin: 1em 0px\; padding: 0px\; vertical-align: baseline\; color: rgb(0\, 0\, 0) !important\;">Your evening begins with a&nbsp\;<b>gourmet dining experience</b>\, including a house salad\, freshly baked breads with creamy butter\, an expertly prepared entr&eacute\;e\, and standard beverage service. Alcohol\, desserts\, and starters are available for an additional charge.&nbsp\;Dinner service begins at&nbsp\;<b>8:30 PM</b>\, followed by the&nbsp\;<b>10:30 PM performance</b>.</div>\n\n<div class="x_elementToProof" style="border: 0px\; font-variant-numeric: inherit\; font-variant-east-asian: inherit\; font-variant-alternates: inherit\; font-variant-position: inherit\; font-variant-emoji: inherit\; font-stretch: inherit\; font-size: 12pt\; line-height: inherit\; font-family: Aptos\, Aptos_EmbeddedFont\, Aptos_MSFontService\, Calibri\, Helvetica\, sans-serif\, serif\, EmojiFont\; font-optical-sizing: inherit\; font-size-adjust: inherit\; font-kerning: inherit\; font-feature-settings: inherit\; font-variation-settings: inherit\; margin: 1em 0px\; padding: 0px\; vertical-align: baseline\; color: rgb(0\, 0\, 0) !important\;">As the clock strikes midnight\, celebrate the arrival of&nbsp\;<b>New Year&rsquo\;s 2026</b>&nbsp\;with a festive countdown and a complimentary&nbsp\;<b>champagne toast</b>.</div>\n\n<hr style="font-family: &quot\;Segoe UI&quot\;\, &quot\;Segoe UI Web (West European)&quot\;\, -apple-system\, &quot\;system-ui&quot\;\, Roboto\, &quot\;Helvetica Neue&quot\;\, sans-serif\; font-size: 15px\;" />\n<div class="x_elementToProof" style="border: 0px\; font-variant-numeric: inherit\; font-variant-east-asian: inherit\; font-variant-alternates: inherit\; font-variant-position: inherit\; font-variant-emoji: inherit\; font-stretch: inherit\; font-size: 12pt\; line-height: inherit\; font-family: Aptos\, Aptos_EmbeddedFont\, Aptos_MSFontService\, Calibri\, Helvetica\, sans-serif\, serif\, EmojiFont\; font-optical-sizing: inherit\; font-size-adjust: inherit\; font-kerning: inherit\; font-feature-settings: inherit\; font-variation-settings: inherit\; margin: 0px\; padding: 0px\; vertical-align: baseline\; color: rgb(0\, 0\, 0) !important\;"><b>&#127876\;&nbsp\;<i>SPECIAL HOLIDAY GIVEAWAY</i>&nbsp\;&mdash\; Presented with The West Side Chamber of Commerce</b></div>\n\n<div class="x_elementToProof" style="border: 0px\; font-variant-numeric: inherit\; font-variant-east-asian: inherit\; font-variant-alternates: inherit\; font-variant-position: inherit\; font-variant-emoji: inherit\; font-stretch: inherit\; font-size: 12pt\; line-height: inherit\; font-family: Aptos\, Aptos_EmbeddedFont\, Aptos_MSFontService\, Calibri\, Helvetica\, sans-serif\, serif\, EmojiFont\; font-optical-sizing: inherit\; font-size-adjust: inherit\; font-kerning: inherit\; font-feature-settings: inherit\; font-variation-settings: inherit\; margin: 1em 0px\; padding: 0px\; vertical-align: baseline\; color: rgb(0\, 0\, 0) !important\;">We&rsquo\;re kicking off the season with a Christmas giveaway for&nbsp\;<b>two tickets</b>&nbsp\;(up to $125 value each!) to an upcoming Ingersoll Dinner Theater show of your choice.</div>\n\n<div class="x_elementToProof" style="border: 0px\; font-variant-numeric: inherit\; font-variant-east-asian: inherit\; font-variant-alternates: inherit\; font-variant-position: inherit\; font-variant-emoji: inherit\; font-stretch: inherit\; font-size: 12pt\; line-height: inherit\; font-family: Aptos\, Aptos_EmbeddedFont\, Aptos_MSFontService\, Calibri\, Helvetica\, sans-serif\, serif\, EmojiFont\; font-optical-sizing: inherit\; font-size-adjust: inherit\; font-kerning: inherit\; font-feature-settings: inherit\; font-variation-settings: inherit\; margin: 1em 0px\; padding: 0px\; vertical-align: baseline\; color: rgb(0\, 0\, 0) !important\;"><b>Giveaway runs December 3&ndash\;10</b>&nbsp\;and will be posted on the West Side Chamber&rsquo\;s socials.</div>\n\n<div class="x_elementToProof" style="border: 0px\; font-variant-numeric: inherit\; font-variant-east-asian: inherit\; font-variant-alternates: inherit\; font-variant-position: inherit\; font-variant-emoji: inherit\; font-stretch: inherit\; font-size: 12pt\; line-height: inherit\; font-family: Aptos\, Aptos_EmbeddedFont\, Aptos_MSFontService\, Calibri\, Helvetica\, sans-serif\, serif\, EmojiFont\; font-optical-sizing: inherit\; font-size-adjust: inherit\; font-kerning: inherit\; font-feature-settings: inherit\; font-variation-settings: inherit\; margin: 1em 0px\; padding: 0px\; vertical-align: baseline\; color: rgb(0\, 0\, 0) !important\;"><b>How to Enter:</b><br />\n1&#65039\;&#8419\; Follow&nbsp\;<b>The West Side Chamber</b>&nbsp\;and&nbsp\;<b>The Ingersoll</b>&nbsp\;on Facebook &amp\; Instagram<br />\nOn the platform where you see the post:<br />\n2&#65039\;&#8419\; Like the post<br />\n3&#65039\;&#8419\; Share it to your stories<br />\n4&#65039\;&#8419\; Tag the person you&rsquo\;d bring with you</div>\n\n<div class="x_elementToProof" style="border: 0px\; font-variant-numeric: inherit\; font-variant-east-asian: inherit\; font-variant-alternates: inherit\; font-variant-position: inherit\; font-variant-emoji: inherit\; font-stretch: inherit\; font-size: 12pt\; line-height: inherit\; font-family: Aptos\, Aptos_EmbeddedFont\, Aptos_MSFontService\, Calibri\, Helvetica\, sans-serif\, serif\, EmojiFont\; font-optical-sizing: inherit\; font-size-adjust: inherit\; font-kerning: inherit\; font-feature-settings: inherit\; font-variation-settings: inherit\; margin: 1em 0px\; padding: 0px\; vertical-align: baseline\; color: rgb(0\, 0\, 0) !important\;">This giveaway could be the&nbsp\;<i>perfect</i>&nbsp\;Christmas gift &mdash\; and a chance to start the new year with world-class entertainment. Make sure to lookout for this post on December 3rd!</div>\n\n<hr style="font-family: &quot\;Segoe UI&quot\;\, &quot\;Segoe UI Web (West European)&quot\;\, -apple-system\, &quot\;system-ui&quot\;\, Roboto\, &quot\;Helvetica Neue&quot\;\, sans-serif\; font-size: 15px\;" />\n<div class="x_elementToProof" style="border: 0px\; font-variant-numeric: inherit\; font-variant-east-asian: inherit\; font-variant-alternates: inherit\; font-variant-position: inherit\; font-variant-emoji: inherit\; font-stretch: inherit\; font-size: 12pt\; line-height: inherit\; font-family: Aptos\, Aptos_EmbeddedFont\, Aptos_MSFontService\, Calibri\, Helvetica\, sans-serif\, serif\, EmojiFont\; font-optical-sizing: inherit\; font-size-adjust: inherit\; font-kerning: inherit\; font-feature-settings: inherit\; font-variation-settings: inherit\; margin: 1em 0px\; padding: 0px\; vertical-align: baseline\; color: rgb(0\, 0\, 0) !important\;">Join us for a night of music\, dining\, celebration\, and unforgettable memories.</div>\n\n<div class="x_elementToProof" style="border: 0px\; font-variant-numeric: inherit\; font-variant-east-asian: inherit\; font-variant-alternates: inherit\; font-variant-position: inherit\; font-variant-emoji: inherit\; font-stretch: inherit\; font-size: 12pt\; line-height: inherit\; font-family: Aptos\, Aptos_EmbeddedFont\, Aptos_MSFontService\, Calibri\, Helvetica\, sans-serif\, serif\, EmojiFont\; font-optical-sizing: inherit\; font-size-adjust: inherit\; font-kerning: inherit\; font-feature-settings: inherit\; font-variation-settings: inherit\; margin: 1em 0px\; padding: 0px\; vertical-align: baseline\; color: rgb(0\, 0\, 0) !important\;"><b>Visit The Ingersoll&#39\;s&nbsp\;website for event details and tickets:&nbsp\;<a data-auth="NotApplicable" data-linkindex="0" href="http://www.theingersoll.com/events" rel="noopener noreferrer" style="border: 0px\; font: inherit\; margin: 0px\; padding: 0px\; vertical-align: baseline\;" target="_blank" title="http://www.theingersoll.com/events">www.theingersoll.com/events</a></b></div>\n
LOCATION:The Ingersoll 3711 Ingersoll Ave Des Moines\, IA 50312
UID:e.1726.3610
SEQUENCE:3
DTSTAMP:20260419T203119Z
URL:https://members.dsmwestside.org/events/details/new-year-s-eve-with-grand-marquis-holiday-giveaway-presented-by-the-ingersoll-west-side-chamber-3610
END:VEVENT

END:VCALENDAR
