BEGIN:VCALENDAR
VERSION:2.0
PRODID:-//ChamberMaster//Event Calendar 2.0//EN
METHOD:PUBLISH
X-PUBLISHED-TTL:P3D
REFRESH-INTERVAL:P3D
CALSCALE:GREGORIAN
BEGIN:VEVENT
DTSTART:20251012T170000Z
DTEND:20251012T220000Z
X-MICROSOFT-CDO-ALLDAYEVENT:FALSE
SUMMARY:NFL Watch Party: The Station on Ingersoll
DESCRIPTION:Join fellow chamber members and participants in our Fantasy Football League for an afternoon of football\, fun\, and informal networking!\n\nWe're gathering to watch NFL action together\, cheer on our teams\, and enjoy some great company. Whether you're in the fantasy league or just a fan of the game\, all chamber members are welcome.\n\nPlease RSVP in advance to ensure there's enough space for everyone!
X-ALT-DESC;FMTTYPE=text/html:<p data-end="337" data-start="200">Join fellow chamber members and participants in our Fantasy Football League for an afternoon of football\, fun\, and informal networking!</p>\n\n<p data-end="533" data-start="339">We&rsquo\;re gathering to watch NFL action together\, cheer on our teams\, and enjoy some great company. Whether you&#39\;re in the fantasy league or just a fan of the game\, all chamber members are welcome.</p>\n\n<p data-end="683" data-start="591">Please RSVP in advance to&nbsp\;ensure there&rsquo\;s enough space for everyone!</p>\n
LOCATION:The Station on Ingersoll 3124 Ingersoll Ave Des Moines\, IA 50312
UID:e.1726.3597
SEQUENCE:3
DTSTAMP:20260420T011612Z
URL:https://members.dsmwestside.org/events/details/nfl-watch-party-the-station-on-ingersoll-3597
END:VEVENT

END:VCALENDAR
