BEGIN:VCALENDAR
VERSION:2.0
PRODID:-//ChamberMaster//Event Calendar 2.0//EN
METHOD:PUBLISH
X-PUBLISHED-TTL:P3D
REFRESH-INTERVAL:P3D
CALSCALE:GREGORIAN
BEGIN:VEVENT
DTSTART:20250808T160000Z
DTEND:20250808T180000Z
X-MICROSOFT-CDO-ALLDAYEVENT:FALSE
SUMMARY:Open House and Ribbon Cutting: Financial Plus Ingersoll
DESCRIPTION:Join Financial Plus Credit Union as they celebrate their new location!\n\n \n\n	\n		\n			\n			\n				\n					\n						\n						\n						To Our Ingersoll Grand Opening!\n						\n						\n					\n				\n			\n			\n		\n		\n			\n			\n				\n					\n						\n						\n							\n								\n									\n									\n										\n											\n												\n												\n													\n														\n															\n															\n																\n																	\n																		\n																		\n																			\n																				\n																					\n																					\n																						\n																							\n																								\n																								\n																									\n																										\n																											\n																											\n																												\n																													\n																													\n																													\n																													\n																													\n																													\n																													\n																													\n																													\n																													\n																													\n																													\n																												\n																												\n																													\n																														\n																														\n																															\n																																\n																																	\n																																	\n																																		\n																																			\n																																				\n																																				\n																																				Join us as we celebrate the grand opening of our NEW Ingersoll Location! From 11 a.m. - 1 p.m. on Friday\, August 8th at 3800 Ingersoll Avenue\, Des Moines\, IA 50312!\n\n																																				\n																																					\n																																					Enjoy a complimentary lunch and sweet treat (available from 11 a.m - 1 p.m.)\n																																					\n																																					\n																																					Be there for our ribbon cutting ceremony at Noon!\n																																					\n																																					\n																																					Plus enjoy free giveaways like an iPad Air\, Adventureland tickets and more! Members can enter giveaways all day long\, presence not needed to win!
X-ALT-DESC;FMTTYPE=text/html:<br />\nJoin Financial Plus Credit Union as they celebrate their new location!<br />\n&nbsp\;\n<table border="0" cellpadding="0" cellspacing="0" role="presentation" style="border-collapse: collapse\; color: rgb(34\, 34\, 34)\; font-family: Arial\, Helvetica\, sans-serif\; font-size: small\;" width="100%">\n	<tbody>\n		<tr>\n			<td id="m_8119063588755465938b16" style="margin: 0px\; word-break: break-word\; padding: 0px\;" valign="top">\n			<table style="border: 0px\; border-radius: 0px\;" width="100%">\n				<tbody>\n					<tr>\n						<td class="m_8119063588755465938mceTextBlockContainer" style="margin: 0px\; word-break: break-word\; padding: 12px 24px\;">\n						<div class="m_8119063588755465938mceText" id="m_8119063588755465938d16" style="font-family: &quot\;Helvetica Neue&quot\;\, Helvetica\, Arial\, Verdana\, sans-serif\; color: rgb(0\, 0\, 0)\; width: 609.531px\;">\n						<h1 style="margin: 0px\; padding: 0px\; font-size: 31px\; font-weight: bold\; line-height: 1.5\; text-align: center\; letter-spacing: 0px\; direction: ltr\;"><span style="color: rgb(0\, 47\, 86)\;"><span style="font-size: 36px\;">To Our Ingersoll Grand Opening!</span></span></h1>\n						</div>\n						</td>\n					</tr>\n				</tbody>\n			</table>\n			</td>\n		</tr>\n		<tr>\n			<td id="m_8119063588755465938gutterContainerId-19" style="margin: 0px\; word-break: break-word\;" valign="top">\n			<table border="0" cellpadding="0" cellspacing="0" role="presentation" width="100%">\n				<tbody>\n					<tr>\n						<td id="m_8119063588755465938b19" style="margin: 0px\; word-break: break-word\; padding: 8px 0px\;" valign="top">\n						<table align="center" border="0" cellpadding="0" cellspacing="0" id="m_8119063588755465938section_7430521d8240efc10e883cca4724698d" role="presentation" style="border-collapse: collapse\;" width="100%">\n							<tbody>\n								<tr>\n									<td style="margin: 0px\; word-break: break-word\; background-position: center center\; background-repeat: no-repeat\; background-size: cover\;" valign="top">\n									<table border="0" cellpadding="0" cellspacing="0" role="presentation" style="border-collapse: collapse\;" width="100%">\n										<tbody>\n											<tr>\n												<td class="m_8119063588755465938mceColumn" colspan="12" id="m_8119063588755465938mceColumnId--9" style="margin: 0px\; word-break: break-word\;" valign="top" width="100%">\n												<table border="0" cellpadding="0" cellspacing="0" role="presentation" style="border-collapse: collapse\;" width="100%">\n													<tbody>\n														<tr>\n															<td align="center" id="m_8119063588755465938b-5" style="margin: 0px\; word-break: break-word\;" valign="top">\n															<table align="center" border="0" cellpadding="0" cellspacing="0" role="presentation" style="border-collapse: collapse\;" width="100%">\n																<tbody>\n																	<tr>\n																		<td style="margin: 0px\; word-break: break-word\; background-position: center center\; background-repeat: no-repeat\; background-size: cover\;" valign="top">\n																		<table border="0" cellpadding="0" cellspacing="0" role="presentation" style="border-collapse: collapse\;" width="100%">\n																			<tbody>\n																				<tr>\n																					<td class="m_8119063588755465938mceColumn" colspan="12" id="m_8119063588755465938mceColumnId--10" style="margin: 0px\; word-break: break-word\;" valign="top" width="100%">\n																					<table border="0" cellpadding="0" cellspacing="0" role="presentation" style="border-collapse: collapse\;" width="100%">\n																						<tbody>\n																							<tr>\n																								<td id="m_8119063588755465938b18" style="margin: 0px\; word-break: break-word\;" valign="top">\n																								<table align="center" border="0" cellpadding="0" cellspacing="0" role="presentation" style="border-collapse: collapse\;" width="100%">\n																									<tbody>\n																										<tr>\n																											<td style="margin: 0px\; word-break: break-word\; background-position: center center\; background-repeat: no-repeat\; background-size: cover\; padding-top: 0px\; padding-bottom: 0px\;" valign="top">\n																											<table border="0" cellpadding="0" cellspacing="24" role="presentation" style="border-collapse: collapse\; table-layout: fixed\;" width="100%">\n																												<colgroup>\n																													<col span="1" width="8.333333333333332%" />\n																													<col span="1" width="8.333333333333332%" />\n																													<col span="1" width="8.333333333333332%" />\n																													<col span="1" width="8.333333333333332%" />\n																													<col span="1" width="8.333333333333332%" />\n																													<col span="1" width="8.333333333333332%" />\n																													<col span="1" width="8.333333333333332%" />\n																													<col span="1" width="8.333333333333332%" />\n																													<col span="1" width="8.333333333333332%" />\n																													<col span="1" width="8.333333333333332%" />\n																													<col span="1" width="8.333333333333332%" />\n																													<col span="1" width="8.333333333333332%" />\n																												</colgroup>\n																												<tbody>\n																													<tr>\n																														<td class="m_8119063588755465938mceColumn" colspan="7" id="m_8119063588755465938mceColumnId-17" style="margin: 0px\; word-break: break-word\; padding-top: 0px\; padding-bottom: 0px\;" valign="top" width="58.333333333333336%">\n																														<table border="0" cellpadding="0" cellspacing="0" role="presentation" style="border-collapse: collapse\;" width="100%">\n																															<tbody>\n																																<tr>\n																																	<td id="m_8119063588755465938b5" style="margin: 0px\; word-break: break-word\; padding: 0px\;" valign="top">\n																																	<table style="border: 0px\; border-radius: 0px\;" width="100%">\n																																		<tbody>\n																																			<tr>\n																																				<td class="m_8119063588755465938mceTextBlockContainer" style="margin: 0px\; word-break: break-word\; padding: 12px 24px\;">\n																																				<div class="m_8119063588755465938mceText" id="m_8119063588755465938d5" style="font-family: &quot\;Helvetica Neue&quot\;\, Helvetica\, Arial\, Verdana\, sans-serif\; color: rgb(0\, 0\, 0)\; width: 334.531px\;">\n																																				<p style="margin: 0px\; padding: 0px\; word-break: break-word\; font-size: 16px\; line-height: 1.5\; letter-spacing: 0px\; direction: ltr\;"><span style="color: rgb(0\, 47\, 86)\;">Join us as we celebrate the&nbsp\;</span><em><strong><span style="color: rgb(0\, 47\, 86)\;">grand opening</span></strong></em><span style="color: rgb(0\, 47\, 86)\;">&nbsp\;of our&nbsp\;</span><em><strong><span style="color: rgb(0\, 47\, 86)\;">NEW</span></strong></em><span style="color: rgb(0\, 47\, 86)\;">&nbsp\;Ingersoll Location! From 11 a.m. - 1 p.m. on Friday\, August 8th at 3800 Ingersoll Avenue\, Des Moines\, IA 50312!</span></p>\n\n																																				<ul style="margin-bottom: 0px\;">\n																																					<li style="margin-left: 15px\; color: rgb(0\, 47\, 86)\; text-align: left\;">\n																																					<p style="margin: 0px\; padding: 0px\; word-break: break-word\; color: rgb(0\, 0\, 0)\; font-size: 16px\; line-height: 1.5\; letter-spacing: 0px\; direction: ltr\;"><span style="color: rgb(0\, 47\, 86)\;">Enjoy a&nbsp\;</span><strong><span style="color: rgb(0\, 47\, 86)\;">complimentary lunch</span></strong><span style="color: rgb(0\, 47\, 86)\;">&nbsp\;and&nbsp\;</span><strong><span style="color: rgb(0\, 47\, 86)\;">sweet treat</span></strong><span style="color: rgb(0\, 47\, 86)\;">&nbsp\;(available from 11 a.m - 1 p.m.)</span></p>\n																																					</li>\n																																					<li style="margin-left: 15px\; color: rgb(0\, 47\, 86)\; text-align: left\;">\n																																					<p style="margin: 0px\; padding: 0px\; word-break: break-word\; color: rgb(0\, 0\, 0)\; font-size: 16px\; line-height: 1.5\; letter-spacing: 0px\; direction: ltr\;"><span style="color: rgb(0\, 47\, 86)\;">Be there for our&nbsp\;</span><strong><span style="color: rgb(0\, 47\, 86)\;">ribbon cutting ceremony at Noon</span></strong><span style="color: rgb(0\, 47\, 86)\;">!</span></p>\n																																					</li>\n																																					<li style="margin-left: 15px\; color: rgb(0\, 47\, 86)\; text-align: left\;">\n																																					<p style="margin: 0px\; padding: 0px\; word-break: break-word\; color: rgb(0\, 0\, 0)\; font-size: 16px\; line-height: 1.5\; letter-spacing: 0px\; direction: ltr\;"><span style="color: rgb(0\, 47\, 86)\;">Plus enjoy&nbsp\;</span><strong><span style="color: rgb(0\, 47\, 86)\;">free giveaways</span></strong><span style="color: rgb(0\, 47\, 86)\;">&nbsp\;like an iPad Air\, Adventureland tickets and more! Members can enter giveaways all day long\, presence not needed to win!</span></p>\n																																					</li>\n																																				</ul>\n																																				</div>\n																																				</td>\n																																			</tr>\n																																		</tbody>\n																																	</table>\n																																	</td>\n																																</tr>\n																															</tbody>\n																														</table>\n																														</td>\n																													</tr>\n																												</tbody>\n																											</table>\n																											</td>\n																										</tr>\n																									</tbody>\n																								</table>\n																								</td>\n																							</tr>\n																						</tbody>\n																					</table>\n																					</td>\n																				</tr>\n																			</tbody>\n																		</table>\n																		</td>\n																	</tr>\n																</tbody>\n															</table>\n															</td>\n														</tr>\n													</tbody>\n												</table>\n												</td>\n											</tr>\n										</tbody>\n									</table>\n									</td>\n								</tr>\n							</tbody>\n						</table>\n						</td>\n					</tr>\n				</tbody>\n			</table>\n			</td>\n		</tr>\n	</tbody>\n</table>\n
LOCATION:Financial Plus Credit Union (New Location!) 3800 Ingersoll Avenue Des Moines\, IA 50312
UID:e.1726.3587
SEQUENCE:3
DTSTAMP:20260420T042107Z
URL:https://members.dsmwestside.org/events/details/open-house-and-ribbon-cutting-financial-plus-ingersoll-3587
END:VEVENT

END:VCALENDAR
