BEGIN:VCALENDAR
VERSION:2.0
PRODID:-//ChamberMaster//Event Calendar 2.0//EN
METHOD:PUBLISH
X-PUBLISHED-TTL:P3D
REFRESH-INTERVAL:P3D
CALSCALE:GREGORIAN
BEGIN:VEVENT
DTSTART:20230630T210000Z
DTEND:20230630T220000Z
X-MICROSOFT-CDO-ALLDAYEVENT:FALSE
SUMMARY:Ribbon Cutting for Bishop Elite Martial Arts Academy
DESCRIPTION:Come join us welcome new chamber member\, Bishop Elite Martial Arts Academy to the west side!\n\n \n\nPlease join Bishop's Elite Martial Arts Academy on Friday\, June 30th from 4:00pm to 5:00pm for our Ribbon Cutting Grand Opening event. We are excited to share a tour of the facility with you\, along with appetizers presented by The Dam Pub\, and\, of course\, the ribbon cutting that will begin at 4:15pm.\n\n\n\nWe have a few guest speakers who will share their business and their brand promise behind what their business promotes.\n\n\n\nWe also will be hosting a BLACK BELT class at the location from 4:45pm to 6:00pm that will be sure to be a good time! This can be for any current or former black belt students. We want to pack the class!! Hurry though\, only 20 spots are available for class!!\n\n\n\nWhether you are attending the ribbon cutting\, the class\, or both\, please register for this event with the link down below if you are wanting to attend this event. This is FREE to the public and hope that you can celebrate this big day with us.\n\n\n\nhttps://sparkpages.io/?i=_ZHU
X-ALT-DESC;FMTTYPE=text/html:Come join us welcome new chamber member\, Bishop Elite Martial Arts Academy to the west side!<br />\n&nbsp\;\n<div style="font-style: inherit\; font-variant: inherit\; font-weight: inherit\; border: 0px\; font-stretch: inherit\; font-size: 15px\; line-height: inherit\; font-family: &quot\;Segoe UI Historic&quot\;\, &quot\;Segoe UI&quot\;\, Helvetica\, Arial\, sans-serif\; font-kerning: inherit\; font-feature-settings: inherit\; margin: 0.5em 0px 0px\; padding: 0px\; vertical-align: baseline\; color: rgb(5\, 5\, 5)\;">\n<div dir="auto" style="border: 0px\; font: inherit\; margin: 0px\; padding: 0px\; vertical-align: baseline\; color: inherit\;"><span style="font-size: 12px\;"><span style="font-family: verdana\;">Please join Bishop&#39\;s Elite Martial Arts Academy on Friday\, June 30th from 4:00pm to 5:00pm for our Ribbon Cutting Grand Opening event.&nbsp\;We are excited to share a tour of the facility with you\, along with appetizers presented by The Dam Pub\, and\, of course\, the ribbon cutting that will begin at 4:15pm.</span></span></div>\n</div>\n\n<div style="font-style: inherit\; font-variant: inherit\; font-weight: inherit\; border: 0px\; font-stretch: inherit\; font-size: 15px\; line-height: inherit\; font-family: &quot\;Segoe UI Historic&quot\;\, &quot\;Segoe UI&quot\;\, Helvetica\, Arial\, sans-serif\; font-kerning: inherit\; font-feature-settings: inherit\; margin: 0.5em 0px 0px\; padding: 0px\; vertical-align: baseline\; color: rgb(5\, 5\, 5)\;">\n<div dir="auto" style="border: 0px\; font: inherit\; margin: 0px\; padding: 0px\; vertical-align: baseline\; color: inherit\;"><span style="font-size: 12px\;"><span style="font-family: verdana\;">We have a few guest speakers who will share their business and their brand promise behind what their business promotes.</span></span></div>\n</div>\n\n<div style="font-style: inherit\; font-variant: inherit\; font-weight: inherit\; border: 0px\; font-stretch: inherit\; font-size: 15px\; line-height: inherit\; font-family: &quot\;Segoe UI Historic&quot\;\, &quot\;Segoe UI&quot\;\, Helvetica\, Arial\, sans-serif\; font-kerning: inherit\; font-feature-settings: inherit\; margin: 0.5em 0px 0px\; padding: 0px\; vertical-align: baseline\; color: rgb(5\, 5\, 5)\;">\n<div dir="auto" style="border: 0px\; font: inherit\; margin: 0px\; padding: 0px\; vertical-align: baseline\; color: inherit\;"><span style="font-size: 12px\;"><span style="font-family: verdana\;">We also will be hosting a BLACK BELT class at the location from 4:45pm to 6:00pm that will be sure to be a good time! This can be for any current or former black belt students. We want to pack the class!! Hurry though\, only 20 spots are available for class!!</span></span></div>\n</div>\n\n<div style="font-style: inherit\; font-variant: inherit\; font-weight: inherit\; border: 0px\; font-stretch: inherit\; font-size: 15px\; line-height: inherit\; font-family: &quot\;Segoe UI Historic&quot\;\, &quot\;Segoe UI&quot\;\, Helvetica\, Arial\, sans-serif\; font-kerning: inherit\; font-feature-settings: inherit\; margin: 0.5em 0px 0px\; padding: 0px\; vertical-align: baseline\; color: rgb(5\, 5\, 5)\;">\n<div dir="auto" style="border: 0px\; font: inherit\; margin: 0px\; padding: 0px\; vertical-align: baseline\; color: inherit\;"><span style="font-size: 12px\;"><span style="font-family: verdana\;">Whether you are attending the ribbon cutting\, the class\, or both\, please register for this event with the link down below if you are wanting to attend this event. This is FREE to the public and hope that you can celebrate this big day with us.</span></span></div>\n</div>\n\n<div style="font-style: inherit\; font-variant: inherit\; font-weight: inherit\; border: 0px\; font-stretch: inherit\; font-size: 15px\; line-height: inherit\; font-family: &quot\;Segoe UI Historic&quot\;\, &quot\;Segoe UI&quot\;\, Helvetica\, Arial\, sans-serif\; font-kerning: inherit\; font-feature-settings: inherit\; margin: 0.5em 0px 0px\; padding: 0px\; vertical-align: baseline\; color: rgb(5\, 5\, 5)\;">\n<div dir="auto" style="border: 0px\; font: inherit\; margin: 0px\; padding: 0px\; vertical-align: baseline\; color: inherit\;"><span style="font-size: 12px\;"><span style="font-family: verdana\;"><span style="border: 0px\; font-style: inherit\; font-variant: inherit\; font-weight: inherit\; font-stretch: inherit\; line-height: inherit\; font-kerning: inherit\; font-feature-settings: inherit\; margin: 0px\; padding: 0px\; vertical-align: baseline\; color: inherit\;"><a data-saferedirecturl="https://www.google.com/url?q=https://sparkpages.io/?i%3D_ZHU%26fbclid%3DIwAR1FDDqhyUVSrjSzwQscB0laWNFmw9geK13sqo1JotAG_w9cOlaNKKSdbg8&amp\;source=gmail&amp\;ust=1687727274043000&amp\;usg=AOvVaw3EHC6c9yAFLJkW-9lNWAZw" href="https://sparkpages.io/?i=_ZHU&amp\;fbclid=IwAR1FDDqhyUVSrjSzwQscB0laWNFmw9geK13sqo1JotAG_w9cOlaNKKSdbg8" rel="nofollow noopener noreferrer" role="link" style="color: rgb(17\, 85\, 204)\; border: 0px\; font-variant-numeric: inherit\; font-variant-east-asian: inherit\; font-variant-alternates: inherit\; font-stretch: inherit\; line-height: inherit\; font-family: inherit\; font-kerning: inherit\; font-feature-settings: inherit\; margin: 0px\; padding: 0px\; vertical-align: baseline\; text-align: inherit\; background-color: transparent\; text-decoration-line: none\; outline: none\; list-style: none\; box-sizing: border-box\; display: inline-block\;" target="_blank">https://sparkpages.io/?i=_ZHU</a></span></span></span>&nbsp\;</div>\n</div>\n
LOCATION:2706 1/2 Beaver Ave.
UID:e.1726.3264
SEQUENCE:3
DTSTAMP:20260421T010141Z
URL:https://members.dsmwestside.org/events/details/ribbon-cutting-for-bishop-elite-martial-arts-academy-3264
END:VEVENT

END:VCALENDAR
