BEGIN:VCALENDAR
VERSION:2.0
PRODID:-//ChamberMaster//Event Calendar 2.0//EN
METHOD:PUBLISH
X-PUBLISHED-TTL:P3D
REFRESH-INTERVAL:P3D
CALSCALE:GREGORIAN
BEGIN:VEVENT
DTSTART:20230629T183000Z
DTEND:20230629T203000Z
X-MICROSOFT-CDO-ALLDAYEVENT:FALSE
SUMMARY:Ribbon Cutting for Wesley Acres Grand Reopening
DESCRIPTION:Come join Wesley Acres for their Grand Reopening and see their new space.\n\n\n\nJune 29th 1:30-3:30pm Wesley Acres Grand Reopening\, 3520 Grand Ave\n\nCome celebrate Wesley Acres' grand re-opening. Let's get together and share our joy!\n\nWhen: Thursday June 29\, 1:30-3:30pm\n\nWhere: Auditorium at Wesley Acres\, 3520 Grand Ave\n\nVisitors: please park on the west side of the building and enter through the new Performing Arts entrance.\n\nWe'll enjoy speakers\, refreshments\, self-guided tours of our new spaces\, and some special surprises.
X-ALT-DESC;FMTTYPE=text/html:Come join Wesley Acres for their Grand Reopening and see their new space.<br />\n<br />\n<strong style="color: rgb(34\, 34\, 34)\; font-family: verdana\; font-size: 12px\;">June 29th 1:30-3:30pm Wesley Acres Grand Reopening\, 3520 Grand Ave</strong><br style="color: rgb(34\, 34\, 34)\; font-family: verdana\; font-size: 12px\;" />\n<span style="color: rgb(34\, 34\, 34)\; font-family: verdana\; font-size: 12px\;">Come celebrate Wesley Acres&rsquo\; grand re-opening. Let&rsquo\;s get together and share our joy!</span><br style="color: rgb(34\, 34\, 34)\; font-family: verdana\; font-size: 12px\;" />\n<strong style="color: rgb(34\, 34\, 34)\; font-family: verdana\; font-size: 12px\;">When:&nbsp\;</strong><span style="color: rgb(34\, 34\, 34)\; font-family: verdana\; font-size: 12px\;">Thursday June 29\, 1:30-3:30pm</span><br style="color: rgb(34\, 34\, 34)\; font-family: verdana\; font-size: 12px\;" />\n<strong style="color: rgb(34\, 34\, 34)\; font-family: verdana\; font-size: 12px\;">Where:&nbsp\;</strong><span style="color: rgb(34\, 34\, 34)\; font-family: verdana\; font-size: 12px\;">Auditorium at Wesley Acres\, 3520 Grand Ave</span><br style="color: rgb(34\, 34\, 34)\; font-family: verdana\; font-size: 12px\;" />\n<span style="color: rgb(34\, 34\, 34)\; font-family: verdana\; font-size: 12px\;">Visitors: please park on the west side of the building and enter through the new Performing Arts entrance.</span><br style="color: rgb(34\, 34\, 34)\; font-family: verdana\; font-size: 12px\;" />\n<span style="color: rgb(34\, 34\, 34)\; font-family: verdana\; font-size: 12px\;">We&rsquo\;ll enjoy speakers\, refreshments\, self-guided tours of our new spaces\, and some special surprises.</span>
LOCATION:3520 Grand Ave
UID:e.1726.3265
SEQUENCE:3
DTSTAMP:20260421T010049Z
URL:https://members.dsmwestside.org/events/details/ribbon-cutting-for-wesley-acres-grand-reopening-3265
END:VEVENT

END:VCALENDAR
