BEGIN:VCALENDAR
VERSION:2.0
PRODID:-//ChamberMaster//Event Calendar 2.0//EN
METHOD:PUBLISH
X-PUBLISHED-TTL:P3D
REFRESH-INTERVAL:P3D
CALSCALE:GREGORIAN
BEGIN:VEVENT
DTSTART:20250807T200000Z
DTEND:20250807T210000Z
X-MICROSOFT-CDO-ALLDAYEVENT:FALSE
SUMMARY:Ribbon Cutting - The Slime Kitchen
DESCRIPTION:Join us in celebrating the grand opening of The Slime Kitchen with a ribbon cutting ceremony. \n\n  All are welcome!\n\n\n\nThis is a co-organized event with the Des Moines Chamber.
X-ALT-DESC;FMTTYPE=text/html:<span style="font-family:arial\;"><span style="caret-color: rgb(0\, 0\, 0)\; color: rgb(0\, 0\, 0)\; font-size: medium\;">Join us in celebrating the grand opening of&nbsp\;</span><strong data-end="388" data-start="367" style="caret-color: rgb(0\, 0\, 0)\; color: rgb(0\, 0\, 0)\;">The Slime Kitchen</strong><span style="caret-color: rgb(0\, 0\, 0)\; color: rgb(0\, 0\, 0)\; font-size: medium\;">&nbsp\;with a ribbon cutting ceremony.&nbsp\;<br />\n&#127881\; All are welcome!<br />\n<br />\nThis is a co-organized event with the Des Moines Chamber.&nbsp\;</span></span>
LOCATION:The Slime Kitchen 2720 Merle Hay Road\, Unit #216 Des Moines\, IA 50310 When you enter through the main Merle Hay Mall entrance on the east side of the mall\, Slime Kitchen is located just past the kids play area on the left.
UID:e.1726.3586
SEQUENCE:3
DTSTAMP:20260420T041813Z
URL:https://members.dsmwestside.org/events/details/ribbon-cutting-the-slime-kitchen-3586
END:VEVENT

END:VCALENDAR
