BEGIN:VCALENDAR
VERSION:2.0
PRODID:-//ChamberMaster//Event Calendar 2.0//EN
METHOD:PUBLISH
X-PUBLISHED-TTL:P3D
REFRESH-INTERVAL:P3D
CALSCALE:GREGORIAN
BEGIN:VEVENT
DTSTART:20260115T220000Z
DTEND:20260116T000000Z
X-MICROSOFT-CDO-ALLDAYEVENT:FALSE
SUMMARY:Third Thursday Networking and Ribbon Cutting: Highland Underground
DESCRIPTION:This month's host is Highland Underground!\n\n \n\nJoin us every Third Thursday of the month at an amazing host restaurant on the Des Moines West Side for a chance to experience and learn about the amazing amenities the West Side has to offer. Connect with fellow business leaders and community members over drinks and appetizers. \n\n \n\nThere will also be a Ribbon Cutting taking place at 5:00 PM!\n\n \n\nRegistrations ahead of time are encouraged.
X-ALT-DESC;FMTTYPE=text/html:<div style="color: rgb(34\, 34\, 34)\; font-family: Arial\, Helvetica\, sans-serif\; font-size: small\;">\n<p style="color: rgb(64\, 63\, 66)\; font-family: Arial\, Verdana\, Helvetica\, sans-serif\; font-size: 12px\; margin: 0px\;"><span data-olk-copy-source="MessageBody" style="border: 0px\; font-style: inherit\; font-variant: inherit\; font-stretch: inherit\; font-size: 16px\; line-height: inherit\; font-family: inherit\; font-optical-sizing: inherit\; font-size-adjust: inherit\; font-kerning: inherit\; font-feature-settings: inherit\; font-variation-settings: inherit\; margin: 0px\; padding: 0px\; vertical-align: baseline\; color: rgb(0\, 0\, 0)\;">This month&#39\;s host is Highland Underground!</span></p>\n\n<p style="color: rgb(64\, 63\, 66)\; font-family: Arial\, Verdana\, Helvetica\, sans-serif\; font-size: 12px\; margin: 0px\;">&nbsp\;</p>\n\n<p style="color: rgb(64\, 63\, 66)\; font-family: Arial\, Verdana\, Helvetica\, sans-serif\; font-size: 12px\; margin: 0px\;"><span style="border: 0px\; font-style: inherit\; font-variant: inherit\; font-weight: inherit\; font-stretch: inherit\; font-size: 16px\; line-height: inherit\; font-family: Arial\, Verdana\, Helvetica\, sans-serif\, serif\, EmojiFont\; font-optical-sizing: inherit\; font-size-adjust: inherit\; font-kerning: inherit\; font-feature-settings: inherit\; font-variation-settings: inherit\; margin: 0px\; padding: 0px\; vertical-align: baseline\; color: rgb(14\, 14\, 14)\;">Join us every Third Thursday of the month at an amazing host restaurant on the Des Moines West Side for a chance to experience and learn about&nbsp\;the amazing amenities the West Side has to offer. Connect with fellow business leaders and community members over drinks and appetizers.&nbsp\;</span></p>\n\n<p style="color: rgb(64\, 63\, 66)\; font-family: Arial\, Verdana\, Helvetica\, sans-serif\; font-size: 12px\; margin: 0px\;">&nbsp\;</p>\n\n<p style="color: rgb(64\, 63\, 66)\; font-family: Arial\, Verdana\, Helvetica\, sans-serif\; font-size: 12px\; margin: 0px\;"><span style="border: 0px\; font-style: inherit\; font-variant: inherit\; font-weight: inherit\; font-stretch: inherit\; font-size: 16px\; line-height: inherit\; font-family: Arial\, Verdana\, Helvetica\, sans-serif\, serif\, EmojiFont\; font-optical-sizing: inherit\; font-size-adjust: inherit\; font-kerning: inherit\; font-feature-settings: inherit\; font-variation-settings: inherit\; margin: 0px\; padding: 0px\; vertical-align: baseline\; color: rgb(14\, 14\, 14)\;">There will also be a Ribbon Cutting taking place at 5:00 PM!</span></p>\n\n<p style="color: rgb(64\, 63\, 66)\; font-family: Arial\, Verdana\, Helvetica\, sans-serif\; font-size: 12px\; margin: 0px\;">&nbsp\;</p>\n\n<p style="color: rgb(64\, 63\, 66)\; font-family: Arial\, Verdana\, Helvetica\, sans-serif\; font-size: 12px\; margin: 0px\;"><span style="border: 0px\; font-style: inherit\; font-variant: inherit\; font-weight: inherit\; font-stretch: inherit\; font-size: 16px\; line-height: inherit\; font-family: Arial\, Verdana\, Helvetica\, sans-serif\, serif\, EmojiFont\; font-optical-sizing: inherit\; font-size-adjust: inherit\; font-kerning: inherit\; font-feature-settings: inherit\; font-variation-settings: inherit\; margin: 0px\; padding: 0px\; vertical-align: baseline\; color: rgb(14\, 14\, 14)\;">Registrations ahead of time are encouraged.</span></p>\n</div>\n
LOCATION:Highland Underground 3614 6th Ave Suite 100 Des Moines\, IA 50313
UID:e.1726.2600
SEQUENCE:3
DTSTAMP:20260419T202340Z
URL:https://members.dsmwestside.org/events/details/third-thursday-networking-and-ribbon-cutting-highland-underground-2600
END:VEVENT

END:VCALENDAR
