BEGIN:VCALENDAR
VERSION:2.0
PRODID:-//ChamberMaster//Event Calendar 2.0//EN
METHOD:PUBLISH
X-PUBLISHED-TTL:P3D
REFRESH-INTERVAL:P3D
CALSCALE:GREGORIAN
BEGIN:VEVENT
DTSTART:20230615T210000Z
DTEND:20230615T230000Z
X-MICROSOFT-CDO-ALLDAYEVENT:FALSE
SUMMARY:Third Thursday Networking: DSM Biergarten
DESCRIPTION:The Des Moines Biergarten is this month's Third Thursday host.  The Biergarten is brought to you by the same local team behind Dough Co. Pizza.  They were inspired by their travels and wanted to bring a new and cool experience to Des Moines.\n\n\n\nCheck out dsmbeergarden.com for more information.\n\n\n\nJoin us every Third Thursday of the month at an amazing host restaurant on the Des Moines West Side for a chance to experience and learn about the amazing amenities the West Side has to offer. Connect with fellow business leaders and community members over drinks and appetizers.
X-ALT-DESC;FMTTYPE=text/html:<div style="color: rgb(34\, 34\, 34)\; font-family: Arial\, Helvetica\, sans-serif\; font-size: small\;"><span style="color: rgb(34\, 34\, 34)\; font-family: Arial\, Helvetica\, sans-serif\; font-size: small\;">The Des Moines Biergarten is this month&#39\;s Third Thursday host.&nbsp\; The Biergarten is brought to you by the same local team behind Dough Co. Pizza.&nbsp\; They were inspired by their travels and wanted to bring a new and cool experience to Des Moines.</span><br style="box-sizing: border-box\; color: rgb(34\, 34\, 34)\; font-family: Arial\, Helvetica\, sans-serif\; font-size: small\; background-color: rgb(243\, 243\, 243)\;" />\n<br style="box-sizing: border-box\; color: rgb(34\, 34\, 34)\; font-family: Arial\, Helvetica\, sans-serif\; font-size: small\; background-color: rgb(243\, 243\, 243)\;" />\n<span style="color: rgb(34\, 34\, 34)\; font-family: Arial\, Helvetica\, sans-serif\; font-size: small\;">Check out <a href="http://dsmbeergarden.com">dsmbeergarden.com</a></span><span style="color: rgb(34\, 34\, 34)\; font-family: Arial\, Helvetica\, sans-serif\; font-size: small\;">&nbsp\;for more information.</span><br />\n<br />\nJoin us every Third Thursday of the month at an amazing host restaurant on the Des Moines West Side for a chance to experience and learn about&nbsp\;the amazing amenities the West Side has to offer. Connect with fellow business leaders and community members over drinks and appetizers.&nbsp\;</div>\n
LOCATION:Des Moines Biergarten Just East of the Lauridsen Amphitheater under the tree canopy in Water Works Park.
UID:e.1726.2569
SEQUENCE:3
DTSTAMP:20260421T005705Z
URL:https://members.dsmwestside.org/events/details/third-thursday-networking-dsm-biergarten-2569
END:VEVENT

END:VCALENDAR
