BEGIN:VCALENDAR
VERSION:2.0
PRODID:-//ChamberMaster//Event Calendar 2.0//EN
METHOD:PUBLISH
X-PUBLISHED-TTL:P3D
REFRESH-INTERVAL:P3D
CALSCALE:GREGORIAN
BEGIN:VEVENT
DTSTART:20250821T210000Z
DTEND:20250821T230000Z
X-MICROSOFT-CDO-ALLDAYEVENT:FALSE
SUMMARY:Third Thursday Networking - Flix Brewhouse
DESCRIPTION:This month's host is Flix!\n\nJoin us every Third Thursday of the month at an amazing host restaurant on the Des Moines West Side for a chance to experience and learn about the amazing amenities the West Side has to offer. Connect with fellow business leaders and community members over drinks and appetizers. \n\n\n\nRegistrations ahead of time are encouraged!
X-ALT-DESC;FMTTYPE=text/html:<div style="color: rgb(34\, 34\, 34)\; font-family: Arial\, Helvetica\, sans-serif\; font-size: small\;">This month&#39\;s host is Flix!<br />\nJoin us every Third Thursday of the month at an amazing host restaurant on the Des Moines West Side for a chance to experience and learn about&nbsp\;the amazing amenities the West Side has to offer. Connect with fellow business leaders and community members over drinks and appetizers.&nbsp\;<br />\n<br />\n<span style="color: rgb(34\, 34\, 34)\; font-family: Arial\, Helvetica\, sans-serif\; font-size: small\;">Registrations ahead of time are encouraged!</span></div>\n
LOCATION:Flix Brewhouse Merle Hay Mall 3800 Merle Hay Rd Des Moines\, IA 50310
UID:e.1726.2595
SEQUENCE:3
DTSTAMP:20260420T041801Z
URL:https://members.dsmwestside.org/events/details/third-thursday-networking-flix-brewhouse-08-21-2025-2595
END:VEVENT

END:VCALENDAR
