BEGIN:VCALENDAR
VERSION:2.0
PRODID:-//ChamberMaster//Event Calendar 2.0//EN
METHOD:PUBLISH
X-PUBLISHED-TTL:P3D
REFRESH-INTERVAL:P3D
CALSCALE:GREGORIAN
BEGIN:VEVENT
DTSTART:20240215T220000Z
DTEND:20240216T000000Z
X-MICROSOFT-CDO-ALLDAYEVENT:FALSE
SUMMARY:Third Thursday Networking: Star Bar
DESCRIPTION:This month's host is Star Bar.\n\n\n\nThanks to Holly Adams at Adams Family Realty for sponsoring appetizers.\n\nhttps://hollydarr.remaxprecisiondsm.com/\n\n\n\nJoin us every Third Thursday of the month at an amazing host restaurant on the Des Moines West Side for a chance to experience and learn about the amazing amenities the West Side has to offer. Connect with fellow business leaders and community members over drinks and appetizers.
X-ALT-DESC;FMTTYPE=text/html:<div style="color: rgb(34\, 34\, 34)\; font-family: Arial\, Helvetica\, sans-serif\; font-size: small\;">This month&#39\;s host is <strong>Star Bar</strong>.<br />\n<br />\nThanks to Holly Adams at <strong>Adams Family Realty</strong> for sponsoring&nbsp\;appetizers.<br />\nhttps://hollydarr.remaxprecisiondsm.com/<br />\n<br />\nJoin us every Third Thursday of the month at an amazing host restaurant on the Des Moines West Side for a chance to experience and learn about&nbsp\;the amazing amenities the West Side has to offer. Connect with fellow business leaders and community members over drinks and appetizers.&nbsp\;</div>\n
LOCATION:Star Bar 2811 Ingersoll Ave Des Moines\, IA 50312
UID:e.1726.2577
SEQUENCE:3
DTSTAMP:20260421T050319Z
URL:https://members.dsmwestside.org/events/details/third-thursday-networking-star-bar-02-15-2024-2577
END:VEVENT

END:VCALENDAR
