BEGIN:VCALENDAR
VERSION:2.0
PRODID:-//ChamberMaster//Event Calendar 2.0//EN
METHOD:PUBLISH
X-PUBLISHED-TTL:P3D
REFRESH-INTERVAL:P3D
CALSCALE:GREGORIAN
BEGIN:VEVENT
DTSTART:20251016T210000Z
DTEND:20251016T230000Z
X-MICROSOFT-CDO-ALLDAYEVENT:FALSE
SUMMARY:Third Thursday Networking: The Station on Ingersoll
DESCRIPTION:Join us every Third Thursday of the month at an amazing host restaurant on the Des Moines West Side for a chance to experience and learn about the amazing amenities the West Side has to offer. Connect with fellow business leaders and community members over drinks and appetizers. \n\n\n\nRegistrations ahead of time are encouraged!
X-ALT-DESC;FMTTYPE=text/html:<div style="color: rgb(34\, 34\, 34)\; font-family: Arial\, Helvetica\, sans-serif\; font-size: small\;">Join us every Third Thursday of the month at an amazing host restaurant on the Des Moines West Side for a chance to experience and learn about&nbsp\;the amazing amenities the West Side has to offer. Connect with fellow business leaders and community members over drinks and appetizers.&nbsp\;<br />\n<br />\n<span style="color: rgb(34\, 34\, 34)\; font-family: Arial\, Helvetica\, sans-serif\; font-size: small\;">Registrations ahead of time are encouraged!</span></div>\n
LOCATION:The Station on Ingersoll 3124 Ingersoll Ave Des Moines\, IA 50312
UID:e.1726.2597
SEQUENCE:3
DTSTAMP:20260420T011418Z
URL:https://members.dsmwestside.org/events/details/third-thursday-networking-the-station-on-ingersoll-10-16-2025-2597
END:VEVENT

END:VCALENDAR
