BEGIN:VCALENDAR
VERSION:2.0
PRODID:-//ChamberMaster//Event Calendar 2.0//EN
METHOD:PUBLISH
X-PUBLISHED-TTL:P3D
REFRESH-INTERVAL:P3D
CALSCALE:GREGORIAN
BEGIN:VEVENT
DTSTART:20251120T220000Z
DTEND:20251121T000000Z
X-MICROSOFT-CDO-ALLDAYEVENT:FALSE
SUMMARY:Third Thursday Networking: Waveland Tap
DESCRIPTION:Join us every Third Thursday of the month at an amazing host restaurant on the Des Moines West Side for a chance to experience and learn about the amazing amenities the West Side has to offer. Connect with fellow business leaders and community members over drinks and appetizers. Registrations ahead of time are encouraged!
X-ALT-DESC;FMTTYPE=text/html:<div style="color: rgb(34\, 34\, 34)\; font-family: Arial\, Helvetica\, sans-serif\; font-size: small\;">Join us every Third Thursday of the month at an amazing host restaurant on the Des Moines West Side for a chance to experience and learn about the amazing amenities the West Side has to offer. Connect with fellow business leaders and community members over drinks and appetizers. Registrations ahead of time are encouraged!</div>\n
LOCATION:Waveland Tap 4704 University Ave Des Moines\, IA 50311
UID:e.1726.2598
SEQUENCE:3
DTSTAMP:20260419T234230Z
URL:https://members.dsmwestside.org/events/details/third-thursday-networking-waveland-tap-11-20-2025-2598
END:VEVENT

END:VCALENDAR
