BEGIN:VCALENDAR
VERSION:2.0
PRODID:-//ChamberMaster//Event Calendar 2.0//EN
METHOD:PUBLISH
X-PUBLISHED-TTL:P3D
REFRESH-INTERVAL:P3D
CALSCALE:GREGORIAN
BEGIN:VEVENT
DTSTART:20230216T220000Z
DTEND:20230217T000000Z
X-MICROSOFT-CDO-ALLDAYEVENT:FALSE
SUMMARY:Third Thursday Networking: Waveland Tap
DESCRIPTION:This month's host is the Waveland Tap\n\n\n\nThanks for Invest DSM for sponsoring the first drink for everyone!  Check out all the great work that they do for the Des Moines community.\n\nhttps://investdsm.org/\n\n\n\nWaveland Tap\n\nA dive bar with ambiance!\n\nWe are one of Des Moines' oldest bars... and certainly the coolest one.\n\n\n\nJoin us every Third Thursday of the month at an amazing host restaurant on the Des Moines West Side for a chance to experience and learn about the amazing amenities the West Side has to offer. Connect with fellow business leaders and community members over drinks and appetizers.
X-ALT-DESC;FMTTYPE=text/html:<div style="color: rgb(34\, 34\, 34)\; font-family: Arial\, Helvetica\, sans-serif\; font-size: small\;">This month&#39\;s host is the Waveland Tap<br />\n<br />\nThanks for Invest DSM for sponsoring the first drink for everyone!&nbsp\; Check out all the great work that they do for the Des Moines community.<br />\n<a href="https://investdsm.org/">https://investdsm.org/</a><br />\n<br />\nWaveland Tap<br />\nA dive bar with ambiance!<br />\nWe are one of Des Moines&#39\; oldest bars... and certainly the coolest one.<br />\n<br />\nJoin us every Third Thursday of the month at an amazing host restaurant on the Des Moines West Side for a chance to experience and learn about&nbsp\;the amazing amenities the West Side has to offer. Connect with fellow business leaders and community members over drinks and appetizers.&nbsp\;</div>\n
LOCATION:Waveland Tap 4704 University Ave Des Moines\, IA 50311
UID:e.1726.2566
SEQUENCE:3
DTSTAMP:20260421T220637Z
URL:https://members.dsmwestside.org/events/details/third-thursday-networking-waveland-tap-2566
END:VEVENT

END:VCALENDAR
