BEGIN:VCALENDAR
VERSION:2.0
PRODID:-//ChamberMaster//Event Calendar 2.0//EN
METHOD:PUBLISH
X-PUBLISHED-TTL:P3D
REFRESH-INTERVAL:P3D
CALSCALE:GREGORIAN
BEGIN:VEVENT
DTSTART:20260325T130000Z
DTEND:20260325T140000Z
X-MICROSOFT-CDO-ALLDAYEVENT:FALSE
SUMMARY:Wake Up West Side: Des Moines Art Center
DESCRIPTION:You're invited to network at everyone's favorite event:  "Wake Up West Side!"  \n\n\n\nThe Des Moines Art Center is a museum\, an art school\, and a sculpture park that welcomes over 300\,000 visitors annually from across the country and around the globe. Its historic campus boasts buildings designed by three major architects of the 20th century\, and the Pappajohn Sculpture Park   an oasis of large-scale sculpture in the heart of downtown. The Art Center is home to one of the strongest collections of 20th and 21st century art in the region\, and a vibrant art school that fosters creativity for all ages and skill levels. A robust Community Access Program offers art experiences for a variety of populations through partnerships with nearly 40 non-profit partnerships.\n\n\n\nJoin us for a presentation by Kelly Baum\, John and Mary Pappajohn Director and CEO\, in the Art Center Caf  followed by a brief walkthrough of the Dahl Gallery\, I. M. Pei Building sculpture court\, Kyle and Sharon Krause Galleries\, and the A.H. Blank Gallery. A light breakfast of La Mie pastries\, coffee\, and juice will be provided. Please follow security measures by remaining with our group during the presentation and gallery tour.
X-ALT-DESC;FMTTYPE=text/html:<span style="font-size:16px\;"><span style="font-family:arial\;">You&#39\;re invited to network at everyone&#39\;s favorite event:&nbsp\; &quot\;Wake Up West Side!&quot\;&nbsp\;&nbsp\;<br />\n<br />\n<span data-olk-copy-source="MessageBody" style="color: black\; margin: 0in\;">The Des Moines Art Center is a museum\, an art school\, and a sculpture park that welcomes over 300\,000 visitors annually from across the country and around the globe. Its historic campus boasts buildings designed by three major architects of the 20th century\, and the Pappajohn Sculpture Park &ndash\; an oasis of large-scale sculpture in the heart of downtown. The Art Center is home to one of the strongest collections of 20th and 21st century art in the region\, and a vibrant art school that fosters creativity for all ages and skill levels. A robust Community Access Program offers art experiences for a variety of populations through partnerships with nearly 40 non-profit partnerships.</span><br />\n<br />\n<span data-olk-copy-source="MessageBody" style="color: black\;">Join us for a presentation by Kelly Baum\, John and Mary Pappajohn Director and CEO\, in the Art Center Caf&eacute\; followed by a brief walkthrough of the Dahl Gallery\, I. M. Pei Building sculpture court\, Kyle and Sharon Krause Galleries\, and the A.H. Blank Gallery. A light breakfast of La Mie pastries\, coffee\, and juice will be provided. Please follow security measures by remaining with our group during the presentation and gallery tour.</span></span></span>
LOCATION:Des Moines Art Center 4700 Grand Ave Des Moines\, IA 50312
UID:e.1726.2930
SEQUENCE:3
DTSTAMP:20260419T182750Z
URL:https://members.dsmwestside.org/events/details/wake-up-west-side-des-moines-art-center-2930
END:VEVENT

END:VCALENDAR
