BEGIN:VCALENDAR
VERSION:2.0
PRODID:-//ChamberMaster//Event Calendar 2.0//EN
METHOD:PUBLISH
X-PUBLISHED-TTL:P3D
REFRESH-INTERVAL:P3D
CALSCALE:GREGORIAN
BEGIN:VEVENT
DTSTART:20260128T140000Z
DTEND:20260128T150000Z
X-MICROSOFT-CDO-ALLDAYEVENT:FALSE
SUMMARY:Wake Up West Side: Iles Dunn's Funeral Home
DESCRIPTION:Join us for networking at everyone's favorite: "Wake Up West Side!"  \n\n\n\nThis month's host is Iles Dunn's Funeral Home!\n\n\n\nIles Dunn's Chapel is the most historic funeral home that is part of Iles Funeral Homes family. Dunn's is a full-service funeral home that is focused on providing families with the ability to honor their loved one with a service\, or celebration\, that is just as unique as their loved one was.\n \n\nA light breakfast will be hosted at Dunn's for those in attendance. For the presentation\, they'll focus on showcasing how funeral service is becoming more modern and unique. They'll also touch on the benefits of planning ahead and close out with a Q&A session.
X-ALT-DESC;FMTTYPE=text/html:<span style="font-size:16px\;">Join us for networking at everyone&#39\;s favorite:<strong> &quot\;Wake Up West Side!&quot\;&nbsp\;&nbsp\;</strong><br />\n<br />\nThis month&#39\;s host is <strong>Iles Dunn&#39\;s Funeral Home!</strong><br />\n<br />\nIles Dunn&#39\;s Chapel is the most historic funeral home that is part of Iles Funeral Homes family. Dunn&#39\;s is a full-service funeral home that is focused on providing families with the ability to honor their loved one with a service\, or celebration\, that is just as unique as their loved one was.</span>\n<div class="x_elementToProof" color:="" font-feature-settings:="" font-kerning:="" font-optical-sizing:="" font-size-adjust:="" font-variation-settings:="" helvetica="" margin:="" padding:="" segoe="" style="border: 0px\; font-variant-numeric: inherit\; font-variant-east-asian: inherit\; font-variant-alternates: inherit\; font-variant-position: inherit\; font-variant-emoji: inherit\; font-stretch: inherit\; font-size: 15px\; line-height: inherit\; font-family: " ui="" vertical-align:="" web="" west="">&nbsp\;</div>\n\n<div class="x_elementToProof" color:="" font-feature-settings:="" font-kerning:="" font-optical-sizing:="" font-size-adjust:="" font-variation-settings:="" helvetica="" margin:="" padding:="" segoe="" style="border: 0px\; font-variant-numeric: inherit\; font-variant-east-asian: inherit\; font-variant-alternates: inherit\; font-variant-position: inherit\; font-variant-emoji: inherit\; font-stretch: inherit\; font-size: 15px\; line-height: inherit\; font-family: " ui="" vertical-align:="" web="" west=""><span style="font-size:16px\;">A light breakfast will be hosted at Dunn&#39\;s for those in attendance. For the presentation\, they&rsquo\;ll focus on showcasing how funeral service is becoming more modern and unique. They&rsquo\;ll also touch on the benefits of planning ahead and close out with a Q&amp\;A session.</span></div>\n
LOCATION:Iles Dunn's Funeral Home 2121 Grand Ave Des Moines\, IA 50312
UID:e.1726.2929
SEQUENCE:3
DTSTAMP:20260419T202458Z
URL:https://members.dsmwestside.org/events/details/wake-up-west-side-iles-dunn-s-funeral-home-2929
END:VEVENT

END:VCALENDAR
