BEGIN:VCALENDAR
VERSION:2.0
PRODID:-//ChamberMaster//Event Calendar 2.0//EN
METHOD:PUBLISH
X-PUBLISHED-TTL:P3D
REFRESH-INTERVAL:P3D
CALSCALE:GREGORIAN
BEGIN:VEVENT
DTSTART:20250911T140000Z
DTEND:20250911T200000Z
X-MICROSOFT-CDO-ALLDAYEVENT:FALSE
SUMMARY:West Side Golf Open 2025: Registration Open!
DESCRIPTION:DSM West Side Chamber Open September 11\, 2025. \n\n9am Shotgun Start. Registration ends September 3rd.\n\n\n\nJoin us for a morning of networking\, food and of course\, golf at the historic Waveland Golf Course. The DSM West Side Chamber and the Des Moines Chamber of Commerce are hosting our golf outing together this year.\n\n\n\nCost is $500 per foursome ($125 per golfer). To register individually\, please email name and company to director@dsmwestside.org..\n\n\n\nPin Prizes\n\nPrizes for the top 3 teams\n\n\n\nSponsorships are available!\n\nBecome a Sponsor as either a Hole Sponsor ($500) or a Foursome + Hole Sponsor ($750). Please email director@dsmwestside.org if interested.
X-ALT-DESC;FMTTYPE=text/html:<h1><span style="font-size:26px\;"><span style="font-family:century gothic\,sans-serif\;">DSM West Side Chamber Open September 11\, 2025. </span></span><br />\n<span style="font-size:26px\;"><span style="font-family:century gothic\,sans-serif\;">9am Shotgun Start. <span style="color:#FF0000\;">Registration ends September 3rd.</span></span></span><br />\n<br />\n<span style="font-size:18px\;"><span style="font-family:century gothic\,sans-serif\;">Join us for a morning of networking\, food and of course\, golf at the historic Waveland Golf Course. The DSM West Side Chamber and the Des Moines Chamber of Commerce are hosting our golf outing together this year.<br />\n<br />\nCost is $500 per foursome ($125&nbsp\;per golfer). To register individually\, please email name and company to <a href="mailto:director@dsmwestside.org">director@dsmwestside.org</a>.</span></span>.<br />\n<br />\n<span style="font-size:18px\;"><span style="font-family:century gothic\,sans-serif\;">Pin Prizes<br />\nPrizes for the top 3 teams</span><br />\n<br />\n<span style="font-family:century gothic\,sans-serif\;"><strong>Sponsorships are available!</strong></span></span><br />\n<span style="font-family: &quot\;century gothic&quot\;\, sans-serif\; font-size: 18px\;">Become a Sponsor as either a Hole Sponsor ($500) or a Foursome + Hole Sponsor ($750). Please email <a href="mailto:director@dsmwestside.org?subject=Intereste%20in%20Golf%20Sponsorship">director@dsmwestside.org</a> if interested.&nbsp\;</span></h1>\n
LOCATION:Waveland Golf Course 4908 University Avenue Des Moines\, IA 50311
UID:e.1726.3557
SEQUENCE:3
DTSTAMP:20260420T024410Z
URL:https://members.dsmwestside.org/events/details/west-side-golf-open-2025-registration-open-3557
END:VEVENT

END:VCALENDAR
