BEGIN:VCALENDAR
VERSION:2.0
PRODID:-//ChamberMaster//Event Calendar 2.0//EN
METHOD:PUBLISH
X-PUBLISHED-TTL:P3D
REFRESH-INTERVAL:P3D
CALSCALE:GREGORIAN
BEGIN:VEVENT
DTSTART:20250702T170000Z
DTEND:20250702T180000Z
X-MICROSOFT-CDO-ALLDAYEVENT:FALSE
SUMMARY:West Side Referral Network No.1
DESCRIPTION:The West Side Referral Network is an opportunity to connect and earn referrals with other DSM West Side Chamber members.  Building relationships are good for business and here is a way to build strong bonds with like-minded individuals each month and get your unique business proposition known.\n\n\n\nOnly one member is allowed per industry.\n\n\n\nThis group meets on the first Wednesday of every month over the noon hour.  \n\n\n\nIf you are looking to join or want additional details reach out to Mike Johnson at (515) 985-5500 or mikejohnson@teacherwealth.com
X-ALT-DESC;FMTTYPE=text/html:The West Side Referral Network is an opportunity to connect and earn referrals with other DSM West Side Chamber members.&nbsp\; Building relationships are good for business and here is a way to build strong bonds with like-minded individuals each month and get your unique business proposition known.<br />\n<br />\nOnly one member is allowed per industry.<br />\n<br />\nThis group meets on the first Wednesday of every month over the noon hour.&nbsp\;&nbsp\;<br />\n<br />\nIf you are looking to join or want additional details reach out to Mike Johnson at (515) 985-5500 or mikejohnson@teacherwealth.com
LOCATION:
UID:e.1726.2054
SEQUENCE:3
DTSTAMP:20260420T055733Z
URL:https://members.dsmwestside.org/events/details/west-side-referral-network-07-02-2025-2054
END:VEVENT

END:VCALENDAR
